BEGIN:VCALENDAR
VERSION:2.0
PRODID:-//City of Guntersville - ECPv6.9.1//NONSGML v1.0//EN
CALSCALE:GREGORIAN
METHOD:PUBLISH
X-ORIGINAL-URL:https://guntersvilleal.org
X-WR-CALDESC:Events for City of Guntersville
REFRESH-INTERVAL;VALUE=DURATION:PT1H
X-Robots-Tag:noindex
X-PUBLISHED-TTL:PT1H
BEGIN:VTIMEZONE
TZID:UTC
BEGIN:STANDARD
TZOFFSETFROM:+0000
TZOFFSETTO:+0000
TZNAME:UTC
DTSTART:20170101T000000
END:STANDARD
END:VTIMEZONE
BEGIN:VEVENT
DTSTART;TZID=UTC:20171016T180000
DTEND;TZID=UTC:20171016T193000
DTSTAMP:20260420T204603
CREATED:20170810T205448Z
LAST-MODIFIED:20171016T190221Z
UID:10000382-1508176800-1508182200@guntersvilleal.org
SUMMARY:Council Meeting 10/16/17
DESCRIPTION:Council Meeting at Town Hall \nAG101617
URL:https://guntersvilleal.org/event/council-meeting-101617/
LOCATION:Town Hall\, 340 Blount Ave\, Guntersville\, Alabama\, 35976
GEO:34.3604942;-86.29206
X-APPLE-STRUCTURED-LOCATION;VALUE=URI;X-ADDRESS=Town Hall 340 Blount Ave Guntersville Alabama 35976;X-APPLE-RADIUS=500;X-TITLE=340 Blount Ave:geo:-86.29206,34.3604942
END:VEVENT
BEGIN:VEVENT
DTSTART;TZID=UTC:20171002T180000
DTEND;TZID=UTC:20171002T193000
DTSTAMP:20260420T204603
CREATED:20170810T205358Z
LAST-MODIFIED:20170810T205358Z
UID:10000381-1506967200-1506972600@guntersvilleal.org
SUMMARY:Council Meeting 10/2/17
DESCRIPTION:Council Meeting at Town Hall
URL:https://guntersvilleal.org/event/council-meeting-10217/
LOCATION:Town Hall\, 340 Blount Ave\, Guntersville\, Alabama\, 35976
GEO:34.3604942;-86.29206
X-APPLE-STRUCTURED-LOCATION;VALUE=URI;X-ADDRESS=Town Hall 340 Blount Ave Guntersville Alabama 35976;X-APPLE-RADIUS=500;X-TITLE=340 Blount Ave:geo:-86.29206,34.3604942
END:VEVENT
END:VCALENDAR