BEGIN:VCALENDAR
VERSION:2.0
PRODID:-//City of Guntersville - ECPv6.9.1//NONSGML v1.0//EN
CALSCALE:GREGORIAN
METHOD:PUBLISH
X-WR-CALNAME:City of Guntersville
X-ORIGINAL-URL:https://guntersvilleal.org
X-WR-CALDESC:Events for City of Guntersville
REFRESH-INTERVAL;VALUE=DURATION:PT1H
X-Robots-Tag:noindex
X-PUBLISHED-TTL:PT1H
BEGIN:VTIMEZONE
TZID:UTC
BEGIN:STANDARD
TZOFFSETFROM:+0000
TZOFFSETTO:+0000
TZNAME:UTC
DTSTART:20180101T000000
END:STANDARD
END:VTIMEZONE
BEGIN:VEVENT
DTSTART;TZID=UTC:20240704T210000
DTEND;TZID=UTC:20240704T213000
DTSTAMP:20260422T111158
CREATED:20240619T142606Z
LAST-MODIFIED:20240619T142606Z
UID:10001266-1720126800-1720128600@guntersvilleal.org
SUMMARY:July 4th Fireworks over Lake Guntersville
DESCRIPTION:Mountain Valley Arts Council will be hosting a free concert prior to the fireworks show at Jeff Cook Stage located at Civitan Park. The concerts will be 6:00pm till 9:00pm featuring both JED Eye and Good Vibes Tribe bands\, a double-header\, with food vendors onsite. The fireworks will be shot at the end of the parking lot at Bill Moore Baseball Field by Civitan Park out over the water.Make sure to tune in to WTWX 95.9 FM for fireworks show music.JUST A REMINDER:NO RESERVED PARKING!! Parking is first come first serve so make plans to arrive early.No parking in the medians on the Warrenton Causeway or the River Bridge.Do not park in resident’s yards unless permitted by property owner.Do not move any barricades that are set up.Vehicles that are parked on the side of the road impeding traffic will be towed.If you are watching from a boat please use caution.Guntersville PD will direct traffic after the show as long as officers are not on an emergency call.
URL:https://guntersvilleal.org/event/july-4th-fireworks-over-lake-guntersville/
LOCATION:Civitan Park\, 1800 Sunset Drive\, Guntersville\, Alabama\, 35976
GEO:34.3475539;-86.3211635
X-APPLE-STRUCTURED-LOCATION;VALUE=URI;X-ADDRESS=Civitan Park 1800 Sunset Drive Guntersville Alabama 35976;X-APPLE-RADIUS=500;X-TITLE=1800 Sunset Drive:geo:-86.3211635,34.3475539
END:VEVENT
BEGIN:VEVENT
DTSTART;TZID=UTC:20230401T100000
DTEND;TZID=UTC:20230401T110000
DTSTAMP:20260422T111158
CREATED:20230314T164349Z
LAST-MODIFIED:20230314T164349Z
UID:10001186-1680343200-1680346800@guntersvilleal.org
SUMMARY:Easter Egg Hunt
DESCRIPTION:
URL:https://guntersvilleal.org/event/easter-egg-hunt/
LOCATION:Civitan Park\, 1800 Sunset Drive\, Guntersville\, Alabama\, 35976
CATEGORIES:News & Announcements
GEO:34.3475539;-86.3211635
X-APPLE-STRUCTURED-LOCATION;VALUE=URI;X-ADDRESS=Civitan Park 1800 Sunset Drive Guntersville Alabama 35976;X-APPLE-RADIUS=500;X-TITLE=1800 Sunset Drive:geo:-86.3211635,34.3475539
END:VEVENT
BEGIN:VEVENT
DTSTART;VALUE=DATE:20220704
DTEND;VALUE=DATE:20220705
DTSTAMP:20260422T111158
CREATED:20220329T152439Z
LAST-MODIFIED:20220329T152439Z
UID:10000962-1656892800-1656979199@guntersvilleal.org
SUMMARY:Mountain Valley Arts Council 4th of July Concert
DESCRIPTION:4TH OF JULY CONCERT – SOUL SURVIVOR\nThis concert is held right before the City of Guntersville’s Fireworks event which is held at 9 PM on the 4th of July. It is held at the Jeff Cook stage at Civitan Park on Sunset Drive in Guntersville. Bleachers are available for seating or guests can bring their own folding chairs. Concessions are available\, and donations are accepted.
URL:https://guntersvilleal.org/event/mountain-valley-arts-council-4th-of-july-concert/
LOCATION:Civitan Park\, 1800 Sunset Drive\, Guntersville\, Alabama\, 35976
ORGANIZER;CN="Mountain Valley Arts Council":MAILTO:info@mvacarts.org
GEO:34.3475539;-86.3211635
X-APPLE-STRUCTURED-LOCATION;VALUE=URI;X-ADDRESS=Civitan Park 1800 Sunset Drive Guntersville Alabama 35976;X-APPLE-RADIUS=500;X-TITLE=1800 Sunset Drive:geo:-86.3211635,34.3475539
END:VEVENT
BEGIN:VEVENT
DTSTART;TZID=UTC:20210704T190000
DTEND;TZID=UTC:20210704T210000
DTSTAMP:20260422T111158
CREATED:20210628T190057Z
LAST-MODIFIED:20210628T190057Z
UID:10000889-1625425200-1625432400@guntersvilleal.org
SUMMARY:Mountain Valley Arts Council's Pre-Fireworks Concert
DESCRIPTION:Mountain Valley Arts Council will have a free concert at Civitan Park 7 – 9 PM featuring The Bonaires
URL:https://guntersvilleal.org/event/mountain-valley-arts-councils-pre-fireworks-concert/
LOCATION:Civitan Park\, 1800 Sunset Drive\, Guntersville\, Alabama\, 35976
GEO:34.3475539;-86.3211635
X-APPLE-STRUCTURED-LOCATION;VALUE=URI;X-ADDRESS=Civitan Park 1800 Sunset Drive Guntersville Alabama 35976;X-APPLE-RADIUS=500;X-TITLE=1800 Sunset Drive:geo:-86.3211635,34.3475539
END:VEVENT
BEGIN:VEVENT
DTSTART;VALUE=DATE:20200306
DTEND;VALUE=DATE:20200309
DTSTAMP:20260422T111158
CREATED:20200303T165036Z
LAST-MODIFIED:20200303T165036Z
UID:10000999-1583452800-1583711999@guntersvilleal.org
SUMMARY:50th Bassmaster Classic
DESCRIPTION:
URL:https://guntersvilleal.org/event/50th-bassmaster-classic/
LOCATION:Civitan Park\, 1800 Sunset Drive\, Guntersville\, Alabama\, 35976
CATEGORIES:News & Announcements
GEO:34.3475539;-86.3211635
X-APPLE-STRUCTURED-LOCATION;VALUE=URI;X-ADDRESS=Civitan Park 1800 Sunset Drive Guntersville Alabama 35976;X-APPLE-RADIUS=500;X-TITLE=1800 Sunset Drive:geo:-86.3211635,34.3475539
END:VEVENT
BEGIN:VEVENT
DTSTART;TZID=UTC:20190601T080000
DTEND;TZID=UTC:20190601T120000
DTSTAMP:20260422T111158
CREATED:20190521T165848Z
LAST-MODIFIED:20190521T170007Z
UID:10000892-1559376000-1559390400@guntersvilleal.org
SUMMARY:Dragon Boat Festival
DESCRIPTION:Habitat for Humanity of Marshall County\, AL will be hosting their annual Dragon Boat Festival on June 1\, 2019\, at Civitan Park in Guntersville\, AL. Registration will begin at 8:00 am and races to begin at 9:00 am. Teams of 16-20 paddlers\, a drummer and a provided steerer race in heats. All proceeds benefit Habitat for Humanity of Marshall County\, AL. For more information and to register\, please go to: www.habitatdragonboatrace.com COME PADDLE WITH US!
URL:https://guntersvilleal.org/event/dragon-boat-festival/
LOCATION:Civitan Park\, 1800 Sunset Drive\, Guntersville\, Alabama\, 35976
GEO:34.3475539;-86.3211635
X-APPLE-STRUCTURED-LOCATION;VALUE=URI;X-ADDRESS=Civitan Park 1800 Sunset Drive Guntersville Alabama 35976;X-APPLE-RADIUS=500;X-TITLE=1800 Sunset Drive:geo:-86.3211635,34.3475539
END:VEVENT
BEGIN:VEVENT
DTSTART;TZID=UTC:20190504T090000
DTEND;TZID=UTC:20190504T180000
DTSTAMP:20260422T111158
CREATED:20190415T155553Z
LAST-MODIFIED:20190415T155554Z
UID:10000624-1556960400-1556992800@guntersvilleal.org
SUMMARY:Live Longer HappyFest
DESCRIPTION:
URL:https://guntersvilleal.org/event/live-longer-happyfest/
LOCATION:Civitan Park\, 1800 Sunset Drive\, Guntersville\, Alabama\, 35976
GEO:34.3475539;-86.3211635
X-APPLE-STRUCTURED-LOCATION;VALUE=URI;X-ADDRESS=Civitan Park 1800 Sunset Drive Guntersville Alabama 35976;X-APPLE-RADIUS=500;X-TITLE=1800 Sunset Drive:geo:-86.3211635,34.3475539
END:VEVENT
BEGIN:VEVENT
DTSTART;VALUE=DATE:20190210
DTEND;VALUE=DATE:20190211
DTSTAMP:20260422T111158
CREATED:20181101T172242Z
LAST-MODIFIED:20181101T172242Z
UID:10000777-1549756800-1549843199@guntersvilleal.org
SUMMARY:Rat-L-Trap Fishing Tournament
DESCRIPTION:More info to come
URL:https://guntersvilleal.org/event/rat-l-trap-fishing-tournament-2/
LOCATION:Civitan Park\, 1800 Sunset Drive\, Guntersville\, Alabama\, 35976
GEO:34.3475539;-86.3211635
X-APPLE-STRUCTURED-LOCATION;VALUE=URI;X-ADDRESS=Civitan Park 1800 Sunset Drive Guntersville Alabama 35976;X-APPLE-RADIUS=500;X-TITLE=1800 Sunset Drive:geo:-86.3211635,34.3475539
END:VEVENT
BEGIN:VEVENT
DTSTART;TZID=UTC:20180602T080000
DTEND;TZID=UTC:20180602T140000
DTSTAMP:20260422T111158
CREATED:20180529T141241Z
LAST-MODIFIED:20180529T141342Z
UID:10000740-1527926400-1527948000@guntersvilleal.org
SUMMARY:6th Annual Dragon Boat Races
DESCRIPTION:It’s that time again! Habitat for Humanity of Marshall County invites you to participate in or simply support the 6th Annual Dragon Boat Races coming up Saturday\, June 2 on Lake Guntersville! Click here for more details: https://www.facebook.com/events/428185727649073/ \n  \n  \n 
URL:https://guntersvilleal.org/event/6th-annual-dragon-boat-races/
LOCATION:Civitan Park\, 1800 Sunset Drive\, Guntersville\, Alabama\, 35976
GEO:34.3475539;-86.3211635
X-APPLE-STRUCTURED-LOCATION;VALUE=URI;X-ADDRESS=Civitan Park 1800 Sunset Drive Guntersville Alabama 35976;X-APPLE-RADIUS=500;X-TITLE=1800 Sunset Drive:geo:-86.3211635,34.3475539
END:VEVENT
BEGIN:VEVENT
DTSTART;VALUE=DATE:20180427
DTEND;VALUE=DATE:20180429
DTSTAMP:20260422T111158
CREATED:20171204T160445Z
LAST-MODIFIED:20180416T210609Z
UID:10000482-1524787200-1524959999@guntersvilleal.org
SUMMARY:2018 Rivers & Brews
DESCRIPTION:Firday\, April 27th 5:00-10:00pm and Saturday\, April 28th 4:30-10:00pm \nFriday night April 27th come out and enjoy a beautiful evening on Lake Guntersville with Runaway June\, The Steel Woods and Brandon Elder!  Then on Saturday April 28th enjoy Parmalee\, Steve Moakler\, Spare Change and Brad and Clint Acoustic!!! You don’t want to miss this show!  Lake\, food\, music\, vendors\, boats\, new trucks\, atv’s\, and more! \nFor more information visit: https://qscpromosllc.wixsite.com/riverandbrews \n\n \n 
URL:https://guntersvilleal.org/event/rivers-and-brews-concert/
LOCATION:Civitan Park\, 1800 Sunset Drive\, Guntersville\, Alabama\, 35976
GEO:34.3475539;-86.3211635
X-APPLE-STRUCTURED-LOCATION;VALUE=URI;X-ADDRESS=Civitan Park 1800 Sunset Drive Guntersville Alabama 35976;X-APPLE-RADIUS=500;X-TITLE=1800 Sunset Drive:geo:-86.3211635,34.3475539
END:VEVENT
BEGIN:VEVENT
DTSTART;TZID=UTC:20180331T100000
DTEND;TZID=UTC:20180331T120000
DTSTAMP:20260422T111158
CREATED:20180312T150743Z
LAST-MODIFIED:20180312T150743Z
UID:10000476-1522490400-1522497600@guntersvilleal.org
SUMMARY:Easter Egg Hunt at Civitan Park
DESCRIPTION:
URL:https://guntersvilleal.org/event/easter-egg-hunt-at-civitan-park/
LOCATION:Civitan Park\, 1800 Sunset Drive\, Guntersville\, Alabama\, 35976
GEO:34.3475539;-86.3211635
X-APPLE-STRUCTURED-LOCATION;VALUE=URI;X-ADDRESS=Civitan Park 1800 Sunset Drive Guntersville Alabama 35976;X-APPLE-RADIUS=500;X-TITLE=1800 Sunset Drive:geo:-86.3211635,34.3475539
END:VEVENT
END:VCALENDAR