BEGIN:VCALENDAR
VERSION:2.0
PRODID:-//City of Guntersville - ECPv6.9.1//NONSGML v1.0//EN
CALSCALE:GREGORIAN
METHOD:PUBLISH
X-WR-CALNAME:City of Guntersville
X-ORIGINAL-URL:https://guntersvilleal.org
X-WR-CALDESC:Events for City of Guntersville
REFRESH-INTERVAL;VALUE=DURATION:PT1H
X-Robots-Tag:noindex
X-PUBLISHED-TTL:PT1H
BEGIN:VTIMEZONE
TZID:UTC
BEGIN:STANDARD
TZOFFSETFROM:+0000
TZOFFSETTO:+0000
TZNAME:UTC
DTSTART:20170101T000000
END:STANDARD
END:VTIMEZONE
BEGIN:VEVENT
DTSTART;VALUE=DATE:20170908
DTEND;VALUE=DATE:20170909
DTSTAMP:20260420T013321
CREATED:20170810T200717Z
LAST-MODIFIED:20170810T200717Z
UID:10000388-1504828800-1504915199@guntersvilleal.org
SUMMARY:7th Annual DAV Charity Golf Tournament
DESCRIPTION:Disabled American Veterans Chapter 18 invites you to participate in the 7th Annual Charity Golf Tournament\, a four-person scramble\, on September 8. Lunch is served at 11:00 a.m. The shotgun start will be at 12:00 p.m. Gunter’s Landing Golf Club plays host. Cost is $80 and includes lunch\, mulligans\, red t blaster\, super red t blaster\, and 1 gimmie. Deadline to sign up is September 6. Contact Randy at (256) 558-5851.
URL:https://guntersvilleal.org/event/7th-annual-dav-charity-golf-tournament/
LOCATION:Gunters Landing Golf Club\, 1000 Gunters Landing Rd\, Guntersville\, Alabama\, 35976
ORGANIZER;CN="Randy Vissers":MAILTO:r.vissers@yahoo.com
GEO:34.3979976;-86.2418426
X-APPLE-STRUCTURED-LOCATION;VALUE=URI;X-ADDRESS=Gunters Landing Golf Club 1000 Gunters Landing Rd Guntersville Alabama 35976;X-APPLE-RADIUS=500;X-TITLE=1000 Gunters Landing Rd:geo:-86.2418426,34.3979976
END:VEVENT
END:VCALENDAR