BEGIN:VCALENDAR
VERSION:2.0
PRODID:-//City of Guntersville - ECPv6.9.1//NONSGML v1.0//EN
CALSCALE:GREGORIAN
METHOD:PUBLISH
X-WR-CALNAME:City of Guntersville
X-ORIGINAL-URL:https://guntersvilleal.org
X-WR-CALDESC:Events for City of Guntersville
REFRESH-INTERVAL;VALUE=DURATION:PT1H
X-Robots-Tag:noindex
X-PUBLISHED-TTL:PT1H
BEGIN:VTIMEZONE
TZID:UTC
BEGIN:STANDARD
TZOFFSETFROM:+0000
TZOFFSETTO:+0000
TZNAME:UTC
DTSTART:20190101T000000
END:STANDARD
END:VTIMEZONE
BEGIN:VEVENT
DTSTART;TZID=UTC:20220512T183000
DTEND;TZID=UTC:20220512T203000
DTSTAMP:20260425T034236
CREATED:20220329T151840Z
LAST-MODIFIED:20220329T151840Z
UID:10000958-1652380200-1652387400@guntersvilleal.org
SUMMARY:Mountain Valley Arts Council Spring Concert Series
DESCRIPTION:EVERYDAY PEOPLE & FRIENDS
URL:https://guntersvilleal.org/event/mountain-valley-arts-council-spring-concert-series-12/
LOCATION:Errol Allan Park\, 390 Gunter Avenue\, Guntersville\, Alabama\, 35976
ORGANIZER;CN="Mountain Valley Arts Council":MAILTO:info@mvacarts.org
GEO:34.3597917;-86.2936758
X-APPLE-STRUCTURED-LOCATION;VALUE=URI;X-ADDRESS=Errol Allan Park 390 Gunter Avenue Guntersville Alabama 35976;X-APPLE-RADIUS=500;X-TITLE=390 Gunter Avenue:geo:-86.2936758,34.3597917
END:VEVENT
BEGIN:VEVENT
DTSTART;TZID=UTC:20220505T183000
DTEND;TZID=UTC:20220505T203000
DTSTAMP:20260425T034236
CREATED:20220329T151724Z
LAST-MODIFIED:20220329T151724Z
UID:10000951-1651775400-1651782600@guntersvilleal.org
SUMMARY:Mountain Valley Arts Council Spring Concert Series
DESCRIPTION:FOSTER
URL:https://guntersvilleal.org/event/mountain-valley-arts-council-spring-concert-series-11/
LOCATION:Errol Allan Park\, 390 Gunter Avenue\, Guntersville\, Alabama\, 35976
ORGANIZER;CN="Mountain Valley Arts Council":MAILTO:info@mvacarts.org
GEO:34.3597917;-86.2936758
X-APPLE-STRUCTURED-LOCATION;VALUE=URI;X-ADDRESS=Errol Allan Park 390 Gunter Avenue Guntersville Alabama 35976;X-APPLE-RADIUS=500;X-TITLE=390 Gunter Avenue:geo:-86.2936758,34.3597917
END:VEVENT
BEGIN:VEVENT
DTSTART;TZID=UTC:20220428T183000
DTEND;TZID=UTC:20220428T203000
DTSTAMP:20260425T034236
CREATED:20220329T151603Z
LAST-MODIFIED:20220329T151617Z
UID:10001124-1651170600-1651177800@guntersvilleal.org
SUMMARY:Mountain Valley Arts Spring Concert Series
DESCRIPTION:LOS AMIGOS MUSIC (MARIACHI)
URL:https://guntersvilleal.org/event/mountain-valley-arts-spring-concert-series-7/
LOCATION:Errol Allan Park\, 390 Gunter Avenue\, Guntersville\, Alabama\, 35976
ORGANIZER;CN="Mountain Valley Arts Council":MAILTO:info@mvacarts.org
GEO:34.3597917;-86.2936758
X-APPLE-STRUCTURED-LOCATION;VALUE=URI;X-ADDRESS=Errol Allan Park 390 Gunter Avenue Guntersville Alabama 35976;X-APPLE-RADIUS=500;X-TITLE=390 Gunter Avenue:geo:-86.2936758,34.3597917
END:VEVENT
BEGIN:VEVENT
DTSTART;TZID=UTC:20220421T183000
DTEND;TZID=UTC:20220421T203000
DTSTAMP:20260425T034236
CREATED:20220329T151359Z
LAST-MODIFIED:20220329T152552Z
UID:10001123-1650565800-1650573000@guntersvilleal.org
SUMMARY:Mountain Valley Arts Council Spring Concert Series
DESCRIPTION:LAKE CITY JAZZ
URL:https://guntersvilleal.org/event/mountain-valley-arts-council-spring-concert-series-10/
LOCATION:Errol Allan Park\, 390 Gunter Avenue\, Guntersville\, Alabama\, 35976
ORGANIZER;CN="Mountain Valley Arts Council":MAILTO:info@mvacarts.org
GEO:34.3597917;-86.2936758
X-APPLE-STRUCTURED-LOCATION;VALUE=URI;X-ADDRESS=Errol Allan Park 390 Gunter Avenue Guntersville Alabama 35976;X-APPLE-RADIUS=500;X-TITLE=390 Gunter Avenue:geo:-86.2936758,34.3597917
END:VEVENT
BEGIN:VEVENT
DTSTART;TZID=UTC:20220414T183000
DTEND;TZID=UTC:20220414T203000
DTSTAMP:20260425T034236
CREATED:20220329T151252Z
LAST-MODIFIED:20220329T152512Z
UID:10001122-1649961000-1649968200@guntersvilleal.org
SUMMARY:Mountain Valley Arts Council Spring Concert Series
DESCRIPTION:JOE CAGLE BAND
URL:https://guntersvilleal.org/event/mountain-valley-arts-council-spring-concert-series-9/
LOCATION:Errol Allan Park\, 390 Gunter Avenue\, Guntersville\, Alabama\, 35976
ORGANIZER;CN="Mountain Valley Arts Council":MAILTO:info@mvacarts.org
GEO:34.3597917;-86.2936758
X-APPLE-STRUCTURED-LOCATION;VALUE=URI;X-ADDRESS=Errol Allan Park 390 Gunter Avenue Guntersville Alabama 35976;X-APPLE-RADIUS=500;X-TITLE=390 Gunter Avenue:geo:-86.2936758,34.3597917
END:VEVENT
BEGIN:VEVENT
DTSTART;TZID=UTC:20211028T183000
DTEND;TZID=UTC:20211028T203000
DTSTAMP:20260425T034236
CREATED:20210909T194938Z
LAST-MODIFIED:20210909T194938Z
UID:10001088-1635445800-1635453000@guntersvilleal.org
SUMMARY:Mountain Valley Arts Council Fall Concert Series
DESCRIPTION:Emily Joseph at Errol Allan Park
URL:https://guntersvilleal.org/event/mountain-valley-arts-council-fall-concert-series-14/
LOCATION:Errol Allan Park\, 390 Gunter Avenue\, Guntersville\, Alabama\, 35976
ORGANIZER;CN="Mountain Valley Arts Council":MAILTO:info@mvacarts.org
GEO:34.3597917;-86.2936758
X-APPLE-STRUCTURED-LOCATION;VALUE=URI;X-ADDRESS=Errol Allan Park 390 Gunter Avenue Guntersville Alabama 35976;X-APPLE-RADIUS=500;X-TITLE=390 Gunter Avenue:geo:-86.2936758,34.3597917
END:VEVENT
BEGIN:VEVENT
DTSTART;TZID=UTC:20211021T183000
DTEND;TZID=UTC:20211021T203000
DTSTAMP:20260425T034236
CREATED:20210909T194847Z
LAST-MODIFIED:20210909T194847Z
UID:10001087-1634841000-1634848200@guntersvilleal.org
SUMMARY:Mountain Valley Arts Council Fall Concert Series
DESCRIPTION:Everyday People at Errol Allan Park
URL:https://guntersvilleal.org/event/mountain-valley-arts-council-fall-concert-series-13/
LOCATION:Errol Allan Park\, 390 Gunter Avenue\, Guntersville\, Alabama\, 35976
ORGANIZER;CN="Mountain Valley Arts Council":MAILTO:info@mvacarts.org
GEO:34.3597917;-86.2936758
X-APPLE-STRUCTURED-LOCATION;VALUE=URI;X-ADDRESS=Errol Allan Park 390 Gunter Avenue Guntersville Alabama 35976;X-APPLE-RADIUS=500;X-TITLE=390 Gunter Avenue:geo:-86.2936758,34.3597917
END:VEVENT
BEGIN:VEVENT
DTSTART;TZID=UTC:20211014T183000
DTEND;TZID=UTC:20211014T203000
DTSTAMP:20260425T034236
CREATED:20210909T194755Z
LAST-MODIFIED:20210909T194755Z
UID:10001086-1634236200-1634243400@guntersvilleal.org
SUMMARY:Mountain Valley Arts Council Fall Concert Series
DESCRIPTION:Foster at Errol Allan Park
URL:https://guntersvilleal.org/event/mountain-valley-arts-council-fall-concert-series-12/
LOCATION:Errol Allan Park\, 390 Gunter Avenue\, Guntersville\, Alabama\, 35976
ORGANIZER;CN="Mountain Valley Arts Council":MAILTO:info@mvacarts.org
GEO:34.3597917;-86.2936758
X-APPLE-STRUCTURED-LOCATION;VALUE=URI;X-ADDRESS=Errol Allan Park 390 Gunter Avenue Guntersville Alabama 35976;X-APPLE-RADIUS=500;X-TITLE=390 Gunter Avenue:geo:-86.2936758,34.3597917
END:VEVENT
BEGIN:VEVENT
DTSTART;TZID=UTC:20211007T183000
DTEND;TZID=UTC:20211007T203000
DTSTAMP:20260425T034236
CREATED:20210909T194700Z
LAST-MODIFIED:20210909T194700Z
UID:10001085-1633631400-1633638600@guntersvilleal.org
SUMMARY:Mountain Valley Arts Council Fall Concert Series
DESCRIPTION:The Bonaires at Errol Allan Park
URL:https://guntersvilleal.org/event/mountain-valley-arts-council-fall-concert-series-11/
LOCATION:Errol Allan Park\, 390 Gunter Avenue\, Guntersville\, Alabama\, 35976
ORGANIZER;CN="Mountain Valley Arts Council":MAILTO:info@mvacarts.org
GEO:34.3597917;-86.2936758
X-APPLE-STRUCTURED-LOCATION;VALUE=URI;X-ADDRESS=Errol Allan Park 390 Gunter Avenue Guntersville Alabama 35976;X-APPLE-RADIUS=500;X-TITLE=390 Gunter Avenue:geo:-86.2936758,34.3597917
END:VEVENT
BEGIN:VEVENT
DTSTART;TZID=UTC:20210930T183000
DTEND;TZID=UTC:20210930T203000
DTSTAMP:20260425T034236
CREATED:20210909T194607Z
LAST-MODIFIED:20210909T194607Z
UID:10001084-1633026600-1633033800@guntersvilleal.org
SUMMARY:Mountain Valley Arts Council Fall Concert Series
DESCRIPTION:Barefoot Blues at Errol Allan Park
URL:https://guntersvilleal.org/event/mountain-valley-arts-council-fall-concert-series-10/
LOCATION:Errol Allan Park\, 390 Gunter Avenue\, Guntersville\, Alabama\, 35976
ORGANIZER;CN="Mountain Valley Arts Council":MAILTO:info@mvacarts.org
GEO:34.3597917;-86.2936758
X-APPLE-STRUCTURED-LOCATION;VALUE=URI;X-ADDRESS=Errol Allan Park 390 Gunter Avenue Guntersville Alabama 35976;X-APPLE-RADIUS=500;X-TITLE=390 Gunter Avenue:geo:-86.2936758,34.3597917
END:VEVENT
BEGIN:VEVENT
DTSTART;TZID=UTC:20210923T183000
DTEND;TZID=UTC:20210923T203000
DTSTAMP:20260425T034236
CREATED:20210909T194522Z
LAST-MODIFIED:20210909T194522Z
UID:10001083-1632421800-1632429000@guntersvilleal.org
SUMMARY:Mountain Valley Arts Council Fall Concert Series
DESCRIPTION:Double Back Band at Errol Allan Park
URL:https://guntersvilleal.org/event/mountain-valley-arts-council-fall-concert-series-9/
LOCATION:Errol Allan Park\, 390 Gunter Avenue\, Guntersville\, Alabama\, 35976
ORGANIZER;CN="Mountain Valley Arts Council":MAILTO:info@mvacarts.org
GEO:34.3597917;-86.2936758
X-APPLE-STRUCTURED-LOCATION;VALUE=URI;X-ADDRESS=Errol Allan Park 390 Gunter Avenue Guntersville Alabama 35976;X-APPLE-RADIUS=500;X-TITLE=390 Gunter Avenue:geo:-86.2936758,34.3597917
END:VEVENT
BEGIN:VEVENT
DTSTART;TZID=UTC:20210916T183000
DTEND;TZID=UTC:20210916T203000
DTSTAMP:20260425T034236
CREATED:20210909T194431Z
LAST-MODIFIED:20210909T194431Z
UID:10000913-1631817000-1631824200@guntersvilleal.org
SUMMARY:Mountain Valley Arts Council Fall Concert Series
DESCRIPTION:JSU Jazz Band at Errol Allan Park
URL:https://guntersvilleal.org/event/mountain-valley-arts-council-fall-concert-series-8/
LOCATION:Errol Allan Park\, 390 Gunter Avenue\, Guntersville\, Alabama\, 35976
ORGANIZER;CN="Mountain Valley Arts Council":MAILTO:info@mvacarts.org
GEO:34.3597917;-86.2936758
X-APPLE-STRUCTURED-LOCATION;VALUE=URI;X-ADDRESS=Errol Allan Park 390 Gunter Avenue Guntersville Alabama 35976;X-APPLE-RADIUS=500;X-TITLE=390 Gunter Avenue:geo:-86.2936758,34.3597917
END:VEVENT
BEGIN:VEVENT
DTSTART;TZID=UTC:20210520T183000
DTEND;TZID=UTC:20210520T203000
DTSTAMP:20260425T034236
CREATED:20210308T194555Z
LAST-MODIFIED:20210308T194555Z
UID:10001069-1621535400-1621542600@guntersvilleal.org
SUMMARY:Mountain Valley Arts Council Spring Concert Series
DESCRIPTION:Featuring Monkey Business
URL:https://guntersvilleal.org/event/mountain-valley-arts-council-spring-concert-series-7/
LOCATION:Errol Allan Park\, 390 Gunter Avenue\, Guntersville\, Alabama\, 35976
ORGANIZER;CN="Mountain Valley Arts Council":MAILTO:info@mvacarts.org
GEO:34.3597917;-86.2936758
X-APPLE-STRUCTURED-LOCATION;VALUE=URI;X-ADDRESS=Errol Allan Park 390 Gunter Avenue Guntersville Alabama 35976;X-APPLE-RADIUS=500;X-TITLE=390 Gunter Avenue:geo:-86.2936758,34.3597917
END:VEVENT
BEGIN:VEVENT
DTSTART;TZID=UTC:20210513T183000
DTEND;TZID=UTC:20210513T203000
DTSTAMP:20260425T034236
CREATED:20210308T194453Z
LAST-MODIFIED:20210308T194453Z
UID:10001068-1620930600-1620937800@guntersvilleal.org
SUMMARY:Mountain Valley Arts Council Spring Concert Series
DESCRIPTION:Featuring JED Eye
URL:https://guntersvilleal.org/event/mountain-valley-arts-council-spring-concert-series-6/
LOCATION:Errol Allan Park\, 390 Gunter Avenue\, Guntersville\, Alabama\, 35976
ORGANIZER;CN="Mountain Valley Arts Council":MAILTO:info@mvacarts.org
GEO:34.3597917;-86.2936758
X-APPLE-STRUCTURED-LOCATION;VALUE=URI;X-ADDRESS=Errol Allan Park 390 Gunter Avenue Guntersville Alabama 35976;X-APPLE-RADIUS=500;X-TITLE=390 Gunter Avenue:geo:-86.2936758,34.3597917
END:VEVENT
BEGIN:VEVENT
DTSTART;TZID=UTC:20210429T183000
DTEND;TZID=UTC:20210429T203000
DTSTAMP:20260425T034236
CREATED:20210308T194303Z
LAST-MODIFIED:20210429T175023Z
UID:10001066-1619721000-1619728200@guntersvilleal.org
SUMMARY:Mountain Valley Arts Council Spring Concert Series
DESCRIPTION:**Postponed due to weather***
URL:https://guntersvilleal.org/event/mountain-valley-arts-council-spring-concert-series-4/
LOCATION:Errol Allan Park\, 390 Gunter Avenue\, Guntersville\, Alabama\, 35976
ORGANIZER;CN="Mountain Valley Arts Council":MAILTO:info@mvacarts.org
GEO:34.3597917;-86.2936758
X-APPLE-STRUCTURED-LOCATION;VALUE=URI;X-ADDRESS=Errol Allan Park 390 Gunter Avenue Guntersville Alabama 35976;X-APPLE-RADIUS=500;X-TITLE=390 Gunter Avenue:geo:-86.2936758,34.3597917
END:VEVENT
BEGIN:VEVENT
DTSTART;TZID=UTC:20210422T183000
DTEND;TZID=UTC:20210422T203000
DTSTAMP:20260425T034236
CREATED:20210308T194142Z
LAST-MODIFIED:20210308T194142Z
UID:10001065-1619116200-1619123400@guntersvilleal.org
SUMMARY:Mountain Valley Arts Council Spring Concert Series
DESCRIPTION:Featuring Fosters
URL:https://guntersvilleal.org/event/mountain-valley-arts-council-spring-concert-series-3/
LOCATION:Errol Allan Park\, 390 Gunter Avenue\, Guntersville\, Alabama\, 35976
ORGANIZER;CN="Mountain Valley Arts Council":MAILTO:info@mvacarts.org
GEO:34.3597917;-86.2936758
X-APPLE-STRUCTURED-LOCATION;VALUE=URI;X-ADDRESS=Errol Allan Park 390 Gunter Avenue Guntersville Alabama 35976;X-APPLE-RADIUS=500;X-TITLE=390 Gunter Avenue:geo:-86.2936758,34.3597917
END:VEVENT
BEGIN:VEVENT
DTSTART;TZID=UTC:20210415T183000
DTEND;TZID=UTC:20210415T203000
DTSTAMP:20260425T034236
CREATED:20210308T194027Z
LAST-MODIFIED:20210308T194027Z
UID:10001064-1618511400-1618518600@guntersvilleal.org
SUMMARY:Mountain Valley Arts Council Spring Concert Series
DESCRIPTION:Featuring Emily Joseph Band
URL:https://guntersvilleal.org/event/mountain-valley-arts-council-spring-concert-series-2/
LOCATION:Errol Allan Park\, 390 Gunter Avenue\, Guntersville\, Alabama\, 35976
ORGANIZER;CN="Mountain Valley Arts Council":MAILTO:info@mvacarts.org
GEO:34.3597917;-86.2936758
X-APPLE-STRUCTURED-LOCATION;VALUE=URI;X-ADDRESS=Errol Allan Park 390 Gunter Avenue Guntersville Alabama 35976;X-APPLE-RADIUS=500;X-TITLE=390 Gunter Avenue:geo:-86.2936758,34.3597917
END:VEVENT
BEGIN:VEVENT
DTSTART;TZID=UTC:20201029T183000
DTEND;TZID=UTC:20201029T203000
DTSTAMP:20260425T034236
CREATED:20200910T174811Z
LAST-MODIFIED:20200910T174811Z
UID:10001024-1603996200-1604003400@guntersvilleal.org
SUMMARY:Mountain Valley Arts Council Fall Concert Series
DESCRIPTION:Mountain Valley Arts Council’s Fall Concert Series featuring Emily Joseph \nWear your masks and space your chairs 6 feet away on all sides from any other group and join the fun!
URL:https://guntersvilleal.org/event/mountain-valley-arts-council-fall-concert-series-7/
LOCATION:Errol Allan Park\, 390 Gunter Avenue\, Guntersville\, Alabama\, 35976
ORGANIZER;CN="Mountain Valley Arts Council":MAILTO:info@mvacarts.org
GEO:34.3597917;-86.2936758
X-APPLE-STRUCTURED-LOCATION;VALUE=URI;X-ADDRESS=Errol Allan Park 390 Gunter Avenue Guntersville Alabama 35976;X-APPLE-RADIUS=500;X-TITLE=390 Gunter Avenue:geo:-86.2936758,34.3597917
END:VEVENT
BEGIN:VEVENT
DTSTART;TZID=UTC:20201022T183000
DTEND;TZID=UTC:20201022T203000
DTSTAMP:20260425T034236
CREATED:20200910T174643Z
LAST-MODIFIED:20200910T174643Z
UID:10001023-1603391400-1603398600@guntersvilleal.org
SUMMARY:Mountain Valley Arts Council Fall Concert Series
DESCRIPTION:Mountain Valley Arts Council’s Fall Concert Series featuring Joe Cagle \nWear your masks and space your chairs 6 feet away on all sides from any other group and join the fun!
URL:https://guntersvilleal.org/event/mountain-valley-arts-council-fall-concert-series-6/
LOCATION:Errol Allan Park\, 390 Gunter Avenue\, Guntersville\, Alabama\, 35976
ORGANIZER;CN="Mountain Valley Arts Council":MAILTO:info@mvacarts.org
GEO:34.3597917;-86.2936758
X-APPLE-STRUCTURED-LOCATION;VALUE=URI;X-ADDRESS=Errol Allan Park 390 Gunter Avenue Guntersville Alabama 35976;X-APPLE-RADIUS=500;X-TITLE=390 Gunter Avenue:geo:-86.2936758,34.3597917
END:VEVENT
BEGIN:VEVENT
DTSTART;TZID=UTC:20201015T183000
DTEND;TZID=UTC:20201015T203000
DTSTAMP:20260425T034236
CREATED:20200910T174450Z
LAST-MODIFIED:20200910T174504Z
UID:10001022-1602786600-1602793800@guntersvilleal.org
SUMMARY:Mountain Valley Arts Council Fall Concert Series
DESCRIPTION:Mountain Valley Arts Council’s Fall Concert Series featuring Bonaries \nWear your masks and space your chairs 6 feet away on all sides from any other group and join the fun!
URL:https://guntersvilleal.org/event/4698/
LOCATION:Errol Allan Park\, 390 Gunter Avenue\, Guntersville\, Alabama\, 35976
ORGANIZER;CN="Mountain Valley Arts Council":MAILTO:info@mvacarts.org
GEO:34.3597917;-86.2936758
X-APPLE-STRUCTURED-LOCATION;VALUE=URI;X-ADDRESS=Errol Allan Park 390 Gunter Avenue Guntersville Alabama 35976;X-APPLE-RADIUS=500;X-TITLE=390 Gunter Avenue:geo:-86.2936758,34.3597917
END:VEVENT
BEGIN:VEVENT
DTSTART;TZID=UTC:20201008T183000
DTEND;TZID=UTC:20201008T203000
DTSTAMP:20260425T034236
CREATED:20200910T174335Z
LAST-MODIFIED:20200924T171524Z
UID:10001021-1602181800-1602189000@guntersvilleal.org
SUMMARY:Mountain Valley Arts Council Fall Concert Series
DESCRIPTION:Mountain Valley Arts Council’s Fall Concert Series featuring Southern Knot \nWear your masks and space your chairs 6 feet away on all sides from any other group and join the fun!
URL:https://guntersvilleal.org/event/mountain-valley-arts-council-fall-concert-series-5/
LOCATION:Errol Allan Park\, 390 Gunter Avenue\, Guntersville\, Alabama\, 35976
ORGANIZER;CN="Mountain Valley Arts Council":MAILTO:info@mvacarts.org
GEO:34.3597917;-86.2936758
X-APPLE-STRUCTURED-LOCATION;VALUE=URI;X-ADDRESS=Errol Allan Park 390 Gunter Avenue Guntersville Alabama 35976;X-APPLE-RADIUS=500;X-TITLE=390 Gunter Avenue:geo:-86.2936758,34.3597917
END:VEVENT
BEGIN:VEVENT
DTSTART;TZID=UTC:20201001T183000
DTEND;TZID=UTC:20201001T203000
DTSTAMP:20260425T034236
CREATED:20200910T174147Z
LAST-MODIFIED:20200910T174147Z
UID:10001019-1601577000-1601584200@guntersvilleal.org
SUMMARY:Mountain Valley Arts Council Fall Concert Series
DESCRIPTION:Mountain Valley Arts Council’s Fall Concert Series featuring JED Eye \nWear your masks and space your chairs 6 feet away on all sides from any other group and join the fun!
URL:https://guntersvilleal.org/event/mountain-valley-arts-council-fall-concert-series-4/
LOCATION:Errol Allan Park\, 390 Gunter Avenue\, Guntersville\, Alabama\, 35976
ORGANIZER;CN="Mountain Valley Arts Council":MAILTO:info@mvacarts.org
GEO:34.3597917;-86.2936758
X-APPLE-STRUCTURED-LOCATION;VALUE=URI;X-ADDRESS=Errol Allan Park 390 Gunter Avenue Guntersville Alabama 35976;X-APPLE-RADIUS=500;X-TITLE=390 Gunter Avenue:geo:-86.2936758,34.3597917
END:VEVENT
BEGIN:VEVENT
DTSTART;TZID=UTC:20200924T183000
DTEND;TZID=UTC:20200924T203000
DTSTAMP:20260425T034236
CREATED:20200910T173958Z
LAST-MODIFIED:20200910T173958Z
UID:10001020-1600972200-1600979400@guntersvilleal.org
SUMMARY:Mountain Valley Arts Council Fall Concert Series
DESCRIPTION:Mountain Valley Arts Council’s Fall Concert Series featuring Tequila Falls \nWear your masks and space your chairs 6 feet away on all sides from any other group and join the fun!
URL:https://guntersvilleal.org/event/mountain-valley-arts-council-fall-concert-series-3/
LOCATION:Errol Allan Park\, 390 Gunter Avenue\, Guntersville\, Alabama\, 35976
ORGANIZER;CN="Mountain Valley Arts Council":MAILTO:info@mvacarts.org
GEO:34.3597917;-86.2936758
X-APPLE-STRUCTURED-LOCATION;VALUE=URI;X-ADDRESS=Errol Allan Park 390 Gunter Avenue Guntersville Alabama 35976;X-APPLE-RADIUS=500;X-TITLE=390 Gunter Avenue:geo:-86.2936758,34.3597917
END:VEVENT
BEGIN:VEVENT
DTSTART;TZID=UTC:20191031T183000
DTEND;TZID=UTC:20191031T203000
DTSTAMP:20260425T034236
CREATED:20190806T145849Z
LAST-MODIFIED:20191025T143745Z
UID:10000945-1572546600-1572553800@guntersvilleal.org
SUMMARY:Mountain Valley Arts Fall Concert Series
DESCRIPTION:Mountain Valley Arts Council welcomes the Soul Survivor to its last Fall Concert of the year at Errol Allan Park. \nThanks to our generous members and sponsors\, MVAC is able to again offer Marshall County free concerts every Thursday! \nBring your chair\, some friends and listen to some great music! And did we mention\, IT’S FREE!! \nSince it is Halloween\, there will also be an Adult Costume Contest! Everyone is encouraged to participate!
URL:https://guntersvilleal.org/event/mountain-valley-arts-fall-concert-series-6/
LOCATION:Errol Allan Park\, 390 Gunter Avenue\, Guntersville\, Alabama\, 35976
ORGANIZER;CN="Mountain Valley Arts Council":MAILTO:info@mvacarts.org
GEO:34.3597917;-86.2936758
X-APPLE-STRUCTURED-LOCATION;VALUE=URI;X-ADDRESS=Errol Allan Park 390 Gunter Avenue Guntersville Alabama 35976;X-APPLE-RADIUS=500;X-TITLE=390 Gunter Avenue:geo:-86.2936758,34.3597917
END:VEVENT
BEGIN:VEVENT
DTSTART;TZID=UTC:20191024T183000
DTEND;TZID=UTC:20191024T203000
DTSTAMP:20260425T034236
CREATED:20190806T145814Z
LAST-MODIFIED:20190814T151450Z
UID:10000944-1571941800-1571949000@guntersvilleal.org
SUMMARY:Mountain Valley Arts Fall Concert Series
DESCRIPTION:MOUNTAIN VALLEY ARTS COUNCIL WELCOMES MACK RICE AND THE RIVER BOTTOM BAND TO ITS CONCERT SERIES AT ERROL ALLAN PARK!  AS ALWAYS THE CONCERTS ARE FREE\, JUST BRING YOUR FRIENDS AND CHAIRS AND ENJOY THE EVENING.  FOOD TRUCKS WILL BE ON SITE AND THE LOCAL RESTAURANTS WILL BE OPEN!
URL:https://guntersvilleal.org/event/mountain-valley-arts-fall-concert-series-5/
LOCATION:Errol Allan Park\, 390 Gunter Avenue\, Guntersville\, Alabama\, 35976
ORGANIZER;CN="Mountain Valley Arts Council":MAILTO:info@mvacarts.org
GEO:34.3597917;-86.2936758
X-APPLE-STRUCTURED-LOCATION;VALUE=URI;X-ADDRESS=Errol Allan Park 390 Gunter Avenue Guntersville Alabama 35976;X-APPLE-RADIUS=500;X-TITLE=390 Gunter Avenue:geo:-86.2936758,34.3597917
END:VEVENT
BEGIN:VEVENT
DTSTART;TZID=UTC:20191017T183000
DTEND;TZID=UTC:20191017T203000
DTSTAMP:20260425T034236
CREATED:20190806T145734Z
LAST-MODIFIED:20190814T151407Z
UID:10000943-1571337000-1571344200@guntersvilleal.org
SUMMARY:Mountain Valley Arts Fall Concert Series
DESCRIPTION:MOUNTAIN VALLEY ARTS COUNCIL WELCOMES MONKEY BUSINESS TO ITS CONCERT SERIES AT ERROL ALLAN PARK!  AS ALWAYS THE CONCERTS ARE FREE\, JUST BRING YOUR FRIENDS AND CHAIRS AND ENJOY THE EVENING.  FOOD TRUCKS WILL BE ON SITE AND THE LOCAL RESTAURANTS WILL BE OPEN!
URL:https://guntersvilleal.org/event/mountain-valley-arts-fall-concert-series-4/
LOCATION:Errol Allan Park\, 390 Gunter Avenue\, Guntersville\, Alabama\, 35976
ORGANIZER;CN="Mountain Valley Arts Council":MAILTO:info@mvacarts.org
GEO:34.3597917;-86.2936758
X-APPLE-STRUCTURED-LOCATION;VALUE=URI;X-ADDRESS=Errol Allan Park 390 Gunter Avenue Guntersville Alabama 35976;X-APPLE-RADIUS=500;X-TITLE=390 Gunter Avenue:geo:-86.2936758,34.3597917
END:VEVENT
BEGIN:VEVENT
DTSTART;TZID=UTC:20191010T183000
DTEND;TZID=UTC:20191010T203000
DTSTAMP:20260425T034236
CREATED:20190806T145652Z
LAST-MODIFIED:20190814T151318Z
UID:10000942-1570732200-1570739400@guntersvilleal.org
SUMMARY:Mountain Valley Arts Fall Concert Series
DESCRIPTION:MOUNTAIN VALLEY ARTS COUNCIL WELCOMES SECTION 8 TO ITS CONCERT SERIES AT ERROL ALLAN PARK!  AS ALWAYS THE CONCERTS ARE FREE\, JUST BRING YOUR FRIENDS AND CHAIRS AND ENJOY THE EVENING.  FOOD TRUCKS WILL BE ON SITE AND THE LOCAL RESTAURANTS WILL BE OPEN!
URL:https://guntersvilleal.org/event/mountain-valley-arts-fall-concert-series-3/
LOCATION:Errol Allan Park\, 390 Gunter Avenue\, Guntersville\, Alabama\, 35976
ORGANIZER;CN="Mountain Valley Arts Council":MAILTO:info@mvacarts.org
GEO:34.3597917;-86.2936758
X-APPLE-STRUCTURED-LOCATION;VALUE=URI;X-ADDRESS=Errol Allan Park 390 Gunter Avenue Guntersville Alabama 35976;X-APPLE-RADIUS=500;X-TITLE=390 Gunter Avenue:geo:-86.2936758,34.3597917
END:VEVENT
BEGIN:VEVENT
DTSTART;TZID=UTC:20191003T183000
DTEND;TZID=UTC:20191003T203000
DTSTAMP:20260425T034236
CREATED:20190806T145432Z
LAST-MODIFIED:20190814T150826Z
UID:10000941-1570127400-1570134600@guntersvilleal.org
SUMMARY:Mountain Valley Arts Fall Concert Series
DESCRIPTION:Mountain Valley Arts Council welcomes Shane Adkins to its Concert Series at Errol Allan Park!  As always the concerts are free\, just bring your friends and chairs and enjoy the evening.  Food Trucks will be on site and the local restaurants will be open!
URL:https://guntersvilleal.org/event/mountain-valley-arts-fall-concert-series-2/
LOCATION:Errol Allan Park\, 390 Gunter Avenue\, Guntersville\, Alabama\, 35976
ORGANIZER;CN="Mountain Valley Arts Council":MAILTO:info@mvacarts.org
GEO:34.3597917;-86.2936758
X-APPLE-STRUCTURED-LOCATION;VALUE=URI;X-ADDRESS=Errol Allan Park 390 Gunter Avenue Guntersville Alabama 35976;X-APPLE-RADIUS=500;X-TITLE=390 Gunter Avenue:geo:-86.2936758,34.3597917
END:VEVENT
BEGIN:VEVENT
DTSTART;TZID=UTC:20190926T183000
DTEND;TZID=UTC:20190926T203000
DTSTAMP:20260425T034236
CREATED:20190806T145305Z
LAST-MODIFIED:20190814T150947Z
UID:10000940-1569522600-1569529800@guntersvilleal.org
SUMMARY:Mountain Valley Arts Fall Concert Series
DESCRIPTION:Mountain Valley Arts Council welcomes Two Tone Willie to kick off its 2019 Fall Concert Series at Errol Allan Park!  As always the concerts are free\, just bring your friends and chairs and enjoy the evening.  Food Trucks will be on site and the local restaurants will be open!
URL:https://guntersvilleal.org/event/mountain-valley-arts-fall-concert-series/
LOCATION:Errol Allan Park\, 390 Gunter Avenue\, Guntersville\, Alabama\, 35976
ORGANIZER;CN="Mountain Valley Arts Council":MAILTO:info@mvacarts.org
GEO:34.3597917;-86.2936758
X-APPLE-STRUCTURED-LOCATION;VALUE=URI;X-ADDRESS=Errol Allan Park 390 Gunter Avenue Guntersville Alabama 35976;X-APPLE-RADIUS=500;X-TITLE=390 Gunter Avenue:geo:-86.2936758,34.3597917
END:VEVENT
BEGIN:VEVENT
DTSTART;TZID=UTC:20190808T170000
DTEND;TZID=UTC:20190808T190000
DTSTAMP:20260425T034236
CREATED:20190806T151110Z
LAST-MODIFIED:20190806T151110Z
UID:10000946-1565283600-1565290800@guntersvilleal.org
SUMMARY:Mountain Valley Arts Council's Artist Reception for Bogdan Ghita
DESCRIPTION:
URL:https://guntersvilleal.org/event/mountain-valley-arts-councils-artist-reception-for-bogdan-ghita/
LOCATION:MVAC Art Gallery\, 300 Gunter Ave\, Guntersville\, AL\, 35976\, United States
ORGANIZER;CN="Mountain Valley Arts Council":MAILTO:info@mvacarts.org
GEO:34.361619;-86.292208
X-APPLE-STRUCTURED-LOCATION;VALUE=URI;X-ADDRESS=MVAC Art Gallery 300 Gunter Ave Guntersville AL 35976 United States;X-APPLE-RADIUS=500;X-TITLE=300 Gunter Ave:geo:-86.292208,34.361619
END:VEVENT
END:VCALENDAR