BEGIN:VCALENDAR
VERSION:2.0
PRODID:-//City of Guntersville - ECPv6.9.1//NONSGML v1.0//EN
CALSCALE:GREGORIAN
METHOD:PUBLISH
X-WR-CALNAME:City of Guntersville
X-ORIGINAL-URL:https://guntersvilleal.org
X-WR-CALDESC:Events for City of Guntersville
REFRESH-INTERVAL;VALUE=DURATION:PT1H
X-Robots-Tag:noindex
X-PUBLISHED-TTL:PT1H
BEGIN:VTIMEZONE
TZID:UTC
BEGIN:STANDARD
TZOFFSETFROM:+0000
TZOFFSETTO:+0000
TZNAME:UTC
DTSTART:20210101T000000
END:STANDARD
END:VTIMEZONE
BEGIN:VEVENT
DTSTART;TZID=UTC:20240523T183000
DTEND;TZID=UTC:20240523T203000
DTSTAMP:20260423T124715
CREATED:20240403T133950Z
LAST-MODIFIED:20240403T133950Z
UID:10001255-1716489000-1716496200@guntersvilleal.org
SUMMARY:Mountain Valley Arts Spring Concert Series
DESCRIPTION:Kingfish band members have deep expertise with music and it shows with every song.
URL:https://guntersvilleal.org/event/mountain-valley-arts-spring-concert-series-12/
LOCATION:Errol Allan Park\, 390 Gunter Avenue\, Guntersville\, Alabama\, 35976
ORGANIZER;CN="Mountain Valley Arts Council":MAILTO:info@mvacarts.org
GEO:34.3597917;-86.2936758
X-APPLE-STRUCTURED-LOCATION;VALUE=URI;X-ADDRESS=Errol Allan Park 390 Gunter Avenue Guntersville Alabama 35976;X-APPLE-RADIUS=500;X-TITLE=390 Gunter Avenue:geo:-86.2936758,34.3597917
END:VEVENT
BEGIN:VEVENT
DTSTART;TZID=UTC:20240516T183000
DTEND;TZID=UTC:20240516T203000
DTSTAMP:20260423T124715
CREATED:20240403T134107Z
LAST-MODIFIED:20240403T134107Z
UID:10001256-1715884200-1715891400@guntersvilleal.org
SUMMARY:Mountain Valley Arts Spring Concert Series
DESCRIPTION:The Stranded Band will take the stage for the first time in an MVAC concert series on May 16th. Based out of Fort Payne\, the Stranded band has been performing in venues and festivals around North Alabama and Nashville with their unique fusion of rock\, country\, and blues.
URL:https://guntersvilleal.org/event/mountain-valley-arts-spring-concert-series-13/
LOCATION:Errol Allan Park\, 390 Gunter Avenue\, Guntersville\, Alabama\, 35976
ORGANIZER;CN="Mountain Valley Arts Council":MAILTO:info@mvacarts.org
GEO:34.3597917;-86.2936758
X-APPLE-STRUCTURED-LOCATION;VALUE=URI;X-ADDRESS=Errol Allan Park 390 Gunter Avenue Guntersville Alabama 35976;X-APPLE-RADIUS=500;X-TITLE=390 Gunter Avenue:geo:-86.2936758,34.3597917
END:VEVENT
BEGIN:VEVENT
DTSTART;TZID=UTC:20240509T183000
DTEND;TZID=UTC:20240509T203000
DTSTAMP:20260423T124715
CREATED:20240403T133830Z
LAST-MODIFIED:20240403T133830Z
UID:10001254-1715279400-1715286600@guntersvilleal.org
SUMMARY:MOUNTAIN VALLEY ARTS SPRING CONCERT SERIES
DESCRIPTION:Foster is composed of Marshall County band members who continue to charm their audiences.
URL:https://guntersvilleal.org/event/mountain-valley-arts-spring-concert-series-11/
LOCATION:Errol Allan Park\, 390 Gunter Avenue\, Guntersville\, Alabama\, 35976
ORGANIZER;CN="Mountain Valley Arts Council":MAILTO:info@mvacarts.org
GEO:34.3597917;-86.2936758
X-APPLE-STRUCTURED-LOCATION;VALUE=URI;X-ADDRESS=Errol Allan Park 390 Gunter Avenue Guntersville Alabama 35976;X-APPLE-RADIUS=500;X-TITLE=390 Gunter Avenue:geo:-86.2936758,34.3597917
END:VEVENT
BEGIN:VEVENT
DTSTART;TZID=UTC:20240502T183000
DTEND;TZID=UTC:20240502T203000
DTSTAMP:20260423T124715
CREATED:20240403T133717Z
LAST-MODIFIED:20240403T133717Z
UID:10001253-1714674600-1714681800@guntersvilleal.org
SUMMARY:MOUNTAIN VALLEY ARTS SPRING CONCERT SERIES
DESCRIPTION:With Cinco de Mayo right around the corner\, start celebrating early with Los Amigos’ authentic mariachi music. They have been a hit for the past two early May concerts\, so come here them whether it’s your first experience or not.
URL:https://guntersvilleal.org/event/mountain-valley-arts-spring-concert-series-10/
LOCATION:Errol Allan Park\, 390 Gunter Avenue\, Guntersville\, Alabama\, 35976
ORGANIZER;CN="Mountain Valley Arts Council":MAILTO:info@mvacarts.org
GEO:34.3597917;-86.2936758
X-APPLE-STRUCTURED-LOCATION;VALUE=URI;X-ADDRESS=Errol Allan Park 390 Gunter Avenue Guntersville Alabama 35976;X-APPLE-RADIUS=500;X-TITLE=390 Gunter Avenue:geo:-86.2936758,34.3597917
END:VEVENT
BEGIN:VEVENT
DTSTART;TZID=UTC:20240425T183000
DTEND;TZID=UTC:20240425T203000
DTSTAMP:20260423T124715
CREATED:20240403T133548Z
LAST-MODIFIED:20240403T133548Z
UID:10001252-1714069800-1714077000@guntersvilleal.org
SUMMARY:Mountain Valley Arts Spring Concert Series
DESCRIPTION:Attendees at a previous concert by the Emily Joseph Band have said that it was “the best concert we’ve ever attended!” Join us and enjoy Emily Joseph’s great vocals and some superb sax playing.
URL:https://guntersvilleal.org/event/mountain-valley-arts-spring-concert-series-9/
LOCATION:Errol Allan Park\, 390 Gunter Avenue\, Guntersville\, Alabama\, 35976
ORGANIZER;CN="Mountain Valley Arts Council":MAILTO:info@mvacarts.org
GEO:34.3597917;-86.2936758
X-APPLE-STRUCTURED-LOCATION;VALUE=URI;X-ADDRESS=Errol Allan Park 390 Gunter Avenue Guntersville Alabama 35976;X-APPLE-RADIUS=500;X-TITLE=390 Gunter Avenue:geo:-86.2936758,34.3597917
END:VEVENT
BEGIN:VEVENT
DTSTART;TZID=UTC:20240418T183000
DTEND;TZID=UTC:20240418T203000
DTSTAMP:20260423T124715
CREATED:20240403T133403Z
LAST-MODIFIED:20240403T133403Z
UID:10001251-1713465000-1713472200@guntersvilleal.org
SUMMARY:Mountain Valley Arts Spring Concert Series
DESCRIPTION:Bring your folding chairs\, fans or parkas depending on the weather\, and your friends to enjoy the concert series opener\, Jake Leg Stompers. This group performed a few years ago\, and MVAC concert planners have been hearing from folks ever since asking that they come back. Now’s your chance to hear their “chicken-fried\, pre-war\, hokum-billy jug” music on instruments you’ll want to inspect during halftime. \n \n 
URL:https://guntersvilleal.org/event/mountain-valley-arts-spring-concert-series-8/
LOCATION:Errol Allan Park\, 390 Gunter Avenue\, Guntersville\, Alabama\, 35976
ORGANIZER;CN="Mountain Valley Arts Council":MAILTO:info@mvacarts.org
GEO:34.3597917;-86.2936758
X-APPLE-STRUCTURED-LOCATION;VALUE=URI;X-ADDRESS=Errol Allan Park 390 Gunter Avenue Guntersville Alabama 35976;X-APPLE-RADIUS=500;X-TITLE=390 Gunter Avenue:geo:-86.2936758,34.3597917
END:VEVENT
BEGIN:VEVENT
DTSTART;TZID=UTC:20231019T183000
DTEND;TZID=UTC:20231019T203000
DTSTAMP:20260423T124715
CREATED:20230925T190345Z
LAST-MODIFIED:20230925T190345Z
UID:10001206-1697740200-1697747400@guntersvilleal.org
SUMMARY:Mountain Valley Arts Fall Concert Series
DESCRIPTION:Liz and the Grand Tour
URL:https://guntersvilleal.org/event/mountain-valley-arts-fall-concert-series-13/
LOCATION:Errol Allan Park\, 390 Gunter Avenue\, Guntersville\, Alabama\, 35976
ORGANIZER;CN="Mountain Valley Arts Council":MAILTO:info@mvacarts.org
GEO:34.3597917;-86.2936758
X-APPLE-STRUCTURED-LOCATION;VALUE=URI;X-ADDRESS=Errol Allan Park 390 Gunter Avenue Guntersville Alabama 35976;X-APPLE-RADIUS=500;X-TITLE=390 Gunter Avenue:geo:-86.2936758,34.3597917
END:VEVENT
BEGIN:VEVENT
DTSTART;TZID=UTC:20231012T183000
DTEND;TZID=UTC:20231012T203000
DTSTAMP:20260423T124715
CREATED:20230925T190204Z
LAST-MODIFIED:20230925T190204Z
UID:10001205-1697135400-1697142600@guntersvilleal.org
SUMMARY:Mountain Valley Arts Fall Concert Series
DESCRIPTION:Good Vibe Tribe
URL:https://guntersvilleal.org/event/mountain-valley-arts-fall-concert-series-12/
LOCATION:Errol Allan Park\, 390 Gunter Avenue\, Guntersville\, Alabama\, 35976
ORGANIZER;CN="Mountain Valley Arts Council":MAILTO:info@mvacarts.org
GEO:34.3597917;-86.2936758
X-APPLE-STRUCTURED-LOCATION;VALUE=URI;X-ADDRESS=Errol Allan Park 390 Gunter Avenue Guntersville Alabama 35976;X-APPLE-RADIUS=500;X-TITLE=390 Gunter Avenue:geo:-86.2936758,34.3597917
END:VEVENT
BEGIN:VEVENT
DTSTART;TZID=UTC:20231005T183000
DTEND;TZID=UTC:20231005T203000
DTSTAMP:20260423T124715
CREATED:20230925T185907Z
LAST-MODIFIED:20230925T185959Z
UID:10001204-1696530600-1696537800@guntersvilleal.org
SUMMARY:Mountain Valley Arts Fall Concert Series
DESCRIPTION: 
URL:https://guntersvilleal.org/event/mountain-valley-arts-fall-concert-series-11/
LOCATION:Errol Allan Park\, 390 Gunter Avenue\, Guntersville\, Alabama\, 35976
ORGANIZER;CN="Mountain Valley Arts Council":MAILTO:info@mvacarts.org
GEO:34.3597917;-86.2936758
X-APPLE-STRUCTURED-LOCATION;VALUE=URI;X-ADDRESS=Errol Allan Park 390 Gunter Avenue Guntersville Alabama 35976;X-APPLE-RADIUS=500;X-TITLE=390 Gunter Avenue:geo:-86.2936758,34.3597917
END:VEVENT
BEGIN:VEVENT
DTSTART;TZID=UTC:20230928T183000
DTEND;TZID=UTC:20230928T203000
DTSTAMP:20260423T124715
CREATED:20230925T185135Z
LAST-MODIFIED:20230925T185135Z
UID:10001203-1695925800-1695933000@guntersvilleal.org
SUMMARY:Mountain Valley Arts Fall Concert Series
DESCRIPTION:
URL:https://guntersvilleal.org/event/mountain-valley-arts-fall-concert-series-10/
LOCATION:Errol Allan Park\, 390 Gunter Avenue\, Guntersville\, Alabama\, 35976
ORGANIZER;CN="Mountain Valley Arts Council":MAILTO:info@mvacarts.org
GEO:34.3597917;-86.2936758
X-APPLE-STRUCTURED-LOCATION;VALUE=URI;X-ADDRESS=Errol Allan Park 390 Gunter Avenue Guntersville Alabama 35976;X-APPLE-RADIUS=500;X-TITLE=390 Gunter Avenue:geo:-86.2936758,34.3597917
END:VEVENT
BEGIN:VEVENT
DTSTART;TZID=UTC:20230518T183000
DTEND;TZID=UTC:20230518T203000
DTSTAMP:20260423T124715
CREATED:20230314T150228Z
LAST-MODIFIED:20230314T150959Z
UID:10001182-1684434600-1684441800@guntersvilleal.org
SUMMARY:MOUNTAIN VALLEY ARTS COUNCIL SPRING CONCERT SERIES
DESCRIPTION:Bring your friends and folding chairs and join us at Errol Allan Park for Southern Heart  (Rock)
URL:https://guntersvilleal.org/event/mountain-valley-arts-council-spring-concert-series-19/
LOCATION:Errol Allan Park\, 390 Gunter Avenue\, Guntersville\, Alabama\, 35976
ORGANIZER;CN="Mountain Valley Arts Council":MAILTO:info@mvacarts.org
GEO:34.3597917;-86.2936758
X-APPLE-STRUCTURED-LOCATION;VALUE=URI;X-ADDRESS=Errol Allan Park 390 Gunter Avenue Guntersville Alabama 35976;X-APPLE-RADIUS=500;X-TITLE=390 Gunter Avenue:geo:-86.2936758,34.3597917
END:VEVENT
BEGIN:VEVENT
DTSTART;TZID=UTC:20230511T183000
DTEND;TZID=UTC:20230511T203000
DTSTAMP:20260423T124715
CREATED:20230314T150131Z
LAST-MODIFIED:20230314T151253Z
UID:10001183-1683829800-1683837000@guntersvilleal.org
SUMMARY:MOUNTAIN VALLEY ARTS COUNCIL SPRING CONCERT SERIES
DESCRIPTION:Bring your friends and folding chairs and join us at Errol Allan Park for Emily Joseph (Classic Rock)
URL:https://guntersvilleal.org/event/mountain-valley-arts-council-spring-concert-series-18/
LOCATION:Errol Allan Park\, 390 Gunter Avenue\, Guntersville\, Alabama\, 35976
ORGANIZER;CN="Mountain Valley Arts Council":MAILTO:info@mvacarts.org
GEO:34.3597917;-86.2936758
X-APPLE-STRUCTURED-LOCATION;VALUE=URI;X-ADDRESS=Errol Allan Park 390 Gunter Avenue Guntersville Alabama 35976;X-APPLE-RADIUS=500;X-TITLE=390 Gunter Avenue:geo:-86.2936758,34.3597917
END:VEVENT
BEGIN:VEVENT
DTSTART;TZID=UTC:20230504T183000
DTEND;TZID=UTC:20230504T203000
DTSTAMP:20260423T124715
CREATED:20230314T150024Z
LAST-MODIFIED:20230314T151354Z
UID:10001181-1683225000-1683232200@guntersvilleal.org
SUMMARY:MOUNTAIN VALLEY ARTS COUNCIL SPRING CONCERT SERIES
DESCRIPTION:Bring your friends and folding chairs and join us at Errol Allan Park for Los Tres Amigos Band (Mariachi)
URL:https://guntersvilleal.org/event/mountain-valley-arts-council-spring-concert-series-17/
LOCATION:Errol Allan Park\, 390 Gunter Avenue\, Guntersville\, Alabama\, 35976
ORGANIZER;CN="Mountain Valley Arts Council":MAILTO:info@mvacarts.org
GEO:34.3597917;-86.2936758
X-APPLE-STRUCTURED-LOCATION;VALUE=URI;X-ADDRESS=Errol Allan Park 390 Gunter Avenue Guntersville Alabama 35976;X-APPLE-RADIUS=500;X-TITLE=390 Gunter Avenue:geo:-86.2936758,34.3597917
END:VEVENT
BEGIN:VEVENT
DTSTART;TZID=UTC:20230427T183000
DTEND;TZID=UTC:20230427T203000
DTSTAMP:20260423T124715
CREATED:20230314T145911Z
LAST-MODIFIED:20230314T151319Z
UID:10001180-1682620200-1682627400@guntersvilleal.org
SUMMARY:MOUNTAIN VALLEY ARTS COUNCIL SPRING CONCERT SERIES
DESCRIPTION:Bring your friends and folding chairs and join us at Errol Allan Park for Kingfish (Rhythm & Blues and Soul)
URL:https://guntersvilleal.org/event/mountain-valley-arts-council-spring-concert-series-16/
LOCATION:Errol Allan Park\, 390 Gunter Avenue\, Guntersville\, Alabama\, 35976
ORGANIZER;CN="Mountain Valley Arts Council":MAILTO:info@mvacarts.org
GEO:34.3597917;-86.2936758
X-APPLE-STRUCTURED-LOCATION;VALUE=URI;X-ADDRESS=Errol Allan Park 390 Gunter Avenue Guntersville Alabama 35976;X-APPLE-RADIUS=500;X-TITLE=390 Gunter Avenue:geo:-86.2936758,34.3597917
END:VEVENT
BEGIN:VEVENT
DTSTART;TZID=UTC:20230420T183000
DTEND;TZID=UTC:20230420T203000
DTSTAMP:20260423T124715
CREATED:20230314T145816Z
LAST-MODIFIED:20230314T151036Z
UID:10001179-1682015400-1682022600@guntersvilleal.org
SUMMARY:MOUNTAIN VALLEY ARTS COUNCIL SPRING CONCERT SERIES
DESCRIPTION:Bring your friends and folding chairs and join us at Errol Allan Park for Tosha Hill (Country)
URL:https://guntersvilleal.org/event/mountain-valley-arts-council-spring-concert-series-15/
LOCATION:Errol Allan Park\, 390 Gunter Avenue\, Guntersville\, Alabama\, 35976
ORGANIZER;CN="Mountain Valley Arts Council":MAILTO:info@mvacarts.org
GEO:34.3597917;-86.2936758
X-APPLE-STRUCTURED-LOCATION;VALUE=URI;X-ADDRESS=Errol Allan Park 390 Gunter Avenue Guntersville Alabama 35976;X-APPLE-RADIUS=500;X-TITLE=390 Gunter Avenue:geo:-86.2936758,34.3597917
END:VEVENT
BEGIN:VEVENT
DTSTART;TZID=UTC:20230413T183000
DTEND;TZID=UTC:20230413T203000
DTSTAMP:20260423T124715
CREATED:20230314T145705Z
LAST-MODIFIED:20230314T151147Z
UID:10001176-1681410600-1681417800@guntersvilleal.org
SUMMARY:MOUNTAIN VALLEY ARTS COUNCIL SPRING CONCERT SERIES
DESCRIPTION:Bring your friends and folding chairs and join us at Errol Allan Park for Mack Rice and the River Bottom Band\n(Southern rock-n-roll and “old and new” country music)
URL:https://guntersvilleal.org/event/mountain-valley-arts-council-spring-concert-series-14/
LOCATION:Errol Allan Park\, 390 Gunter Avenue\, Guntersville\, Alabama\, 35976
ORGANIZER;CN="Mountain Valley Arts Council":MAILTO:info@mvacarts.org
GEO:34.3597917;-86.2936758
X-APPLE-STRUCTURED-LOCATION;VALUE=URI;X-ADDRESS=Errol Allan Park 390 Gunter Avenue Guntersville Alabama 35976;X-APPLE-RADIUS=500;X-TITLE=390 Gunter Avenue:geo:-86.2936758,34.3597917
END:VEVENT
BEGIN:VEVENT
DTSTART;TZID=UTC:20221027T183000
DTEND;TZID=UTC:20221027T203000
DTSTAMP:20260423T124715
CREATED:20220901T152437Z
LAST-MODIFIED:20220912T183813Z
UID:10000995-1666895400-1666902600@guntersvilleal.org
SUMMARY:Mountain Valley Arts Fall Concert Series
DESCRIPTION:Everyday People \n 
URL:https://guntersvilleal.org/event/mountain-valley-arts-fall-concert-series-8/
LOCATION:Errol Allan Park\, 390 Gunter Avenue\, Guntersville\, Alabama\, 35976
ORGANIZER;CN="Mountain Valley Arts Council":MAILTO:info@mvacarts.org
GEO:34.3597917;-86.2936758
X-APPLE-STRUCTURED-LOCATION;VALUE=URI;X-ADDRESS=Errol Allan Park 390 Gunter Avenue Guntersville Alabama 35976;X-APPLE-RADIUS=500;X-TITLE=390 Gunter Avenue:geo:-86.2936758,34.3597917
END:VEVENT
BEGIN:VEVENT
DTSTART;TZID=UTC:20221020T183000
DTEND;TZID=UTC:20221020T203000
DTSTAMP:20260423T124715
CREATED:20220901T152257Z
LAST-MODIFIED:20220901T152257Z
UID:10000993-1666290600-1666297800@guntersvilleal.org
SUMMARY:Mountain Valley Arts Council Fall Concert Series
DESCRIPTION:Barefoot Blues
URL:https://guntersvilleal.org/event/mountain-valley-arts-council-fall-concert-series-17/
LOCATION:Errol Allan Park\, 390 Gunter Avenue\, Guntersville\, Alabama\, 35976
ORGANIZER;CN="Mountain Valley Arts Council":MAILTO:info@mvacarts.org
GEO:34.3597917;-86.2936758
X-APPLE-STRUCTURED-LOCATION;VALUE=URI;X-ADDRESS=Errol Allan Park 390 Gunter Avenue Guntersville Alabama 35976;X-APPLE-RADIUS=500;X-TITLE=390 Gunter Avenue:geo:-86.2936758,34.3597917
END:VEVENT
BEGIN:VEVENT
DTSTART;TZID=UTC:20221013T183000
DTEND;TZID=UTC:20221013T203000
DTSTAMP:20260423T124715
CREATED:20220912T183940Z
LAST-MODIFIED:20220912T183940Z
UID:10000997-1665685800-1665693000@guntersvilleal.org
SUMMARY:Mountain Valley Arts Fall Concert Series
DESCRIPTION:Tosha Hill
URL:https://guntersvilleal.org/event/mountain-valley-arts-fall-concert-series-9/
LOCATION:Errol Allan Park\, 390 Gunter Avenue\, Guntersville\, Alabama\, 35976
ORGANIZER;CN="Mountain Valley Arts Council":MAILTO:info@mvacarts.org
GEO:34.3597917;-86.2936758
X-APPLE-STRUCTURED-LOCATION;VALUE=URI;X-ADDRESS=Errol Allan Park 390 Gunter Avenue Guntersville Alabama 35976;X-APPLE-RADIUS=500;X-TITLE=390 Gunter Avenue:geo:-86.2936758,34.3597917
END:VEVENT
BEGIN:VEVENT
DTSTART;TZID=UTC:20221006T183000
DTEND;TZID=UTC:20221006T203000
DTSTAMP:20260423T124715
CREATED:20220901T152128Z
LAST-MODIFIED:20220901T152128Z
UID:10000991-1665081000-1665088200@guntersvilleal.org
SUMMARY:Mountain Valley Arts Council Fall Concert Series
DESCRIPTION:Jed Eye
URL:https://guntersvilleal.org/event/mountain-valley-arts-council-fall-concert-series-16/
LOCATION:Errol Allan Park\, 390 Gunter Avenue\, Guntersville\, Alabama\, 35976
ORGANIZER;CN="Mountain Valley Arts Council":MAILTO:info@mvacarts.org
GEO:34.3597917;-86.2936758
X-APPLE-STRUCTURED-LOCATION;VALUE=URI;X-ADDRESS=Errol Allan Park 390 Gunter Avenue Guntersville Alabama 35976;X-APPLE-RADIUS=500;X-TITLE=390 Gunter Avenue:geo:-86.2936758,34.3597917
END:VEVENT
BEGIN:VEVENT
DTSTART;TZID=UTC:20220929T183000
DTEND;TZID=UTC:20220929T203000
DTSTAMP:20260423T124715
CREATED:20220901T152003Z
LAST-MODIFIED:20220901T152003Z
UID:10000989-1664476200-1664483400@guntersvilleal.org
SUMMARY:Mountain Valley Arts Council Fall Concert Series
DESCRIPTION:Uncle Shuffelo and his Haint Hollow Hootenanny is a seven-piece\, old-time string band from Rover\, Tennessee with a mission to relieve stress\, give off good vibes\, and cause a general feeling of well-being in all people\, while promoting the awesomeness of old-time music. They can be counted on to deliver a high-energy performance influenced by Uncle Dave Macon\, Grandpa Jones\, the Carter Family and other old-time greats. \nMembers of the band include: \n\n\nAustin Derryberry – fiddle\, banjo\, banjo uke\, tenor banjo\, guitar\, harmonica\, vocals \n\n\nConner Derryberery – banjo\, bones\, spoons \n\n\nBrian Derryberry – Upright bass\, vocals \n\n\nCourtney Williams Derryberry – Guitar\, banjo uke\, tuba\, vocals \n\n\nMegan Williams – Washboard\, kazoo horn\, clarinet\, vocals \n\n\nEmma Jean Williams – Autoharp\, jug\, vocals \n\n\nKeith Williams – Banjo tenor banjo\, vocals
URL:https://guntersvilleal.org/event/mountain-valley-arts-council-fall-concert-series-15/
LOCATION:Errol Allan Park\, 390 Gunter Avenue\, Guntersville\, Alabama\, 35976
ORGANIZER;CN="Mountain Valley Arts Council":MAILTO:info@mvacarts.org
GEO:34.3597917;-86.2936758
X-APPLE-STRUCTURED-LOCATION;VALUE=URI;X-ADDRESS=Errol Allan Park 390 Gunter Avenue Guntersville Alabama 35976;X-APPLE-RADIUS=500;X-TITLE=390 Gunter Avenue:geo:-86.2936758,34.3597917
END:VEVENT
BEGIN:VEVENT
DTSTART;TZID=UTC:20220922T183000
DTEND;TZID=UTC:20220922T203000
DTSTAMP:20260423T124715
CREATED:20220901T151642Z
LAST-MODIFIED:20220901T151642Z
UID:10000987-1663871400-1663878600@guntersvilleal.org
SUMMARY:Mountain Valley Arts Fall Concert Series
DESCRIPTION:
URL:https://guntersvilleal.org/event/mountain-valley-arts-fall-concert-series-7/
LOCATION:Errol Allan Park\, 390 Gunter Avenue\, Guntersville\, Alabama\, 35976
ORGANIZER;CN="Mountain Valley Arts Council":MAILTO:info@mvacarts.org
GEO:34.3597917;-86.2936758
X-APPLE-STRUCTURED-LOCATION;VALUE=URI;X-ADDRESS=Errol Allan Park 390 Gunter Avenue Guntersville Alabama 35976;X-APPLE-RADIUS=500;X-TITLE=390 Gunter Avenue:geo:-86.2936758,34.3597917
END:VEVENT
BEGIN:VEVENT
DTSTART;VALUE=DATE:20220704
DTEND;VALUE=DATE:20220705
DTSTAMP:20260423T124715
CREATED:20220329T152439Z
LAST-MODIFIED:20220329T152439Z
UID:10000962-1656892800-1656979199@guntersvilleal.org
SUMMARY:Mountain Valley Arts Council 4th of July Concert
DESCRIPTION:4TH OF JULY CONCERT – SOUL SURVIVOR\nThis concert is held right before the City of Guntersville’s Fireworks event which is held at 9 PM on the 4th of July. It is held at the Jeff Cook stage at Civitan Park on Sunset Drive in Guntersville. Bleachers are available for seating or guests can bring their own folding chairs. Concessions are available\, and donations are accepted.
URL:https://guntersvilleal.org/event/mountain-valley-arts-council-4th-of-july-concert/
LOCATION:Civitan Park\, 1800 Sunset Drive\, Guntersville\, Alabama\, 35976
ORGANIZER;CN="Mountain Valley Arts Council":MAILTO:info@mvacarts.org
GEO:34.3475539;-86.3211635
X-APPLE-STRUCTURED-LOCATION;VALUE=URI;X-ADDRESS=Civitan Park 1800 Sunset Drive Guntersville Alabama 35976;X-APPLE-RADIUS=500;X-TITLE=1800 Sunset Drive:geo:-86.3211635,34.3475539
END:VEVENT
BEGIN:VEVENT
DTSTART;TZID=UTC:20220519T183000
DTEND;TZID=UTC:20220519T203000
DTSTAMP:20260423T124715
CREATED:20220329T152057Z
LAST-MODIFIED:20220329T152057Z
UID:10000960-1652985000-1652992200@guntersvilleal.org
SUMMARY:Mountain Valley Arts Council Spring Concert Series
DESCRIPTION:SOUTHERN HEART
URL:https://guntersvilleal.org/event/mountain-valley-arts-council-spring-concert-series-13/
LOCATION:Errol Allan Park\, 390 Gunter Avenue\, Guntersville\, Alabama\, 35976
ORGANIZER;CN="Mountain Valley Arts Council":MAILTO:info@mvacarts.org
GEO:34.3597917;-86.2936758
X-APPLE-STRUCTURED-LOCATION;VALUE=URI;X-ADDRESS=Errol Allan Park 390 Gunter Avenue Guntersville Alabama 35976;X-APPLE-RADIUS=500;X-TITLE=390 Gunter Avenue:geo:-86.2936758,34.3597917
END:VEVENT
BEGIN:VEVENT
DTSTART;TZID=UTC:20220512T183000
DTEND;TZID=UTC:20220512T203000
DTSTAMP:20260423T124715
CREATED:20220329T151840Z
LAST-MODIFIED:20220329T151840Z
UID:10000958-1652380200-1652387400@guntersvilleal.org
SUMMARY:Mountain Valley Arts Council Spring Concert Series
DESCRIPTION:EVERYDAY PEOPLE & FRIENDS
URL:https://guntersvilleal.org/event/mountain-valley-arts-council-spring-concert-series-12/
LOCATION:Errol Allan Park\, 390 Gunter Avenue\, Guntersville\, Alabama\, 35976
ORGANIZER;CN="Mountain Valley Arts Council":MAILTO:info@mvacarts.org
GEO:34.3597917;-86.2936758
X-APPLE-STRUCTURED-LOCATION;VALUE=URI;X-ADDRESS=Errol Allan Park 390 Gunter Avenue Guntersville Alabama 35976;X-APPLE-RADIUS=500;X-TITLE=390 Gunter Avenue:geo:-86.2936758,34.3597917
END:VEVENT
BEGIN:VEVENT
DTSTART;TZID=UTC:20220505T183000
DTEND;TZID=UTC:20220505T203000
DTSTAMP:20260423T124715
CREATED:20220329T151724Z
LAST-MODIFIED:20220329T151724Z
UID:10000951-1651775400-1651782600@guntersvilleal.org
SUMMARY:Mountain Valley Arts Council Spring Concert Series
DESCRIPTION:FOSTER
URL:https://guntersvilleal.org/event/mountain-valley-arts-council-spring-concert-series-11/
LOCATION:Errol Allan Park\, 390 Gunter Avenue\, Guntersville\, Alabama\, 35976
ORGANIZER;CN="Mountain Valley Arts Council":MAILTO:info@mvacarts.org
GEO:34.3597917;-86.2936758
X-APPLE-STRUCTURED-LOCATION;VALUE=URI;X-ADDRESS=Errol Allan Park 390 Gunter Avenue Guntersville Alabama 35976;X-APPLE-RADIUS=500;X-TITLE=390 Gunter Avenue:geo:-86.2936758,34.3597917
END:VEVENT
BEGIN:VEVENT
DTSTART;TZID=UTC:20220428T183000
DTEND;TZID=UTC:20220428T203000
DTSTAMP:20260423T124715
CREATED:20220329T151603Z
LAST-MODIFIED:20220329T151617Z
UID:10001124-1651170600-1651177800@guntersvilleal.org
SUMMARY:Mountain Valley Arts Spring Concert Series
DESCRIPTION:LOS AMIGOS MUSIC (MARIACHI)
URL:https://guntersvilleal.org/event/mountain-valley-arts-spring-concert-series-7/
LOCATION:Errol Allan Park\, 390 Gunter Avenue\, Guntersville\, Alabama\, 35976
ORGANIZER;CN="Mountain Valley Arts Council":MAILTO:info@mvacarts.org
GEO:34.3597917;-86.2936758
X-APPLE-STRUCTURED-LOCATION;VALUE=URI;X-ADDRESS=Errol Allan Park 390 Gunter Avenue Guntersville Alabama 35976;X-APPLE-RADIUS=500;X-TITLE=390 Gunter Avenue:geo:-86.2936758,34.3597917
END:VEVENT
BEGIN:VEVENT
DTSTART;TZID=UTC:20220421T183000
DTEND;TZID=UTC:20220421T203000
DTSTAMP:20260423T124715
CREATED:20220329T151359Z
LAST-MODIFIED:20220329T152552Z
UID:10001123-1650565800-1650573000@guntersvilleal.org
SUMMARY:Mountain Valley Arts Council Spring Concert Series
DESCRIPTION:LAKE CITY JAZZ
URL:https://guntersvilleal.org/event/mountain-valley-arts-council-spring-concert-series-10/
LOCATION:Errol Allan Park\, 390 Gunter Avenue\, Guntersville\, Alabama\, 35976
ORGANIZER;CN="Mountain Valley Arts Council":MAILTO:info@mvacarts.org
GEO:34.3597917;-86.2936758
X-APPLE-STRUCTURED-LOCATION;VALUE=URI;X-ADDRESS=Errol Allan Park 390 Gunter Avenue Guntersville Alabama 35976;X-APPLE-RADIUS=500;X-TITLE=390 Gunter Avenue:geo:-86.2936758,34.3597917
END:VEVENT
BEGIN:VEVENT
DTSTART;TZID=UTC:20220414T183000
DTEND;TZID=UTC:20220414T203000
DTSTAMP:20260423T124716
CREATED:20220329T151252Z
LAST-MODIFIED:20220329T152512Z
UID:10001122-1649961000-1649968200@guntersvilleal.org
SUMMARY:Mountain Valley Arts Council Spring Concert Series
DESCRIPTION:JOE CAGLE BAND
URL:https://guntersvilleal.org/event/mountain-valley-arts-council-spring-concert-series-9/
LOCATION:Errol Allan Park\, 390 Gunter Avenue\, Guntersville\, Alabama\, 35976
ORGANIZER;CN="Mountain Valley Arts Council":MAILTO:info@mvacarts.org
GEO:34.3597917;-86.2936758
X-APPLE-STRUCTURED-LOCATION;VALUE=URI;X-ADDRESS=Errol Allan Park 390 Gunter Avenue Guntersville Alabama 35976;X-APPLE-RADIUS=500;X-TITLE=390 Gunter Avenue:geo:-86.2936758,34.3597917
END:VEVENT
BEGIN:VEVENT
DTSTART;TZID=UTC:20211028T183000
DTEND;TZID=UTC:20211028T203000
DTSTAMP:20260423T124716
CREATED:20210909T194938Z
LAST-MODIFIED:20210909T194938Z
UID:10001088-1635445800-1635453000@guntersvilleal.org
SUMMARY:Mountain Valley Arts Council Fall Concert Series
DESCRIPTION:Emily Joseph at Errol Allan Park
URL:https://guntersvilleal.org/event/mountain-valley-arts-council-fall-concert-series-14/
LOCATION:Errol Allan Park\, 390 Gunter Avenue\, Guntersville\, Alabama\, 35976
ORGANIZER;CN="Mountain Valley Arts Council":MAILTO:info@mvacarts.org
GEO:34.3597917;-86.2936758
X-APPLE-STRUCTURED-LOCATION;VALUE=URI;X-ADDRESS=Errol Allan Park 390 Gunter Avenue Guntersville Alabama 35976;X-APPLE-RADIUS=500;X-TITLE=390 Gunter Avenue:geo:-86.2936758,34.3597917
END:VEVENT
END:VCALENDAR