BEGIN:VCALENDAR
VERSION:2.0
PRODID:-//City of Guntersville - ECPv6.9.1//NONSGML v1.0//EN
CALSCALE:GREGORIAN
METHOD:PUBLISH
X-ORIGINAL-URL:https://guntersvilleal.org
X-WR-CALDESC:Events for City of Guntersville
REFRESH-INTERVAL;VALUE=DURATION:PT1H
X-Robots-Tag:noindex
X-PUBLISHED-TTL:PT1H
BEGIN:VTIMEZONE
TZID:UTC
BEGIN:STANDARD
TZOFFSETFROM:+0000
TZOFFSETTO:+0000
TZNAME:UTC
DTSTART:20210101T000000
END:STANDARD
END:VTIMEZONE
BEGIN:VEVENT
DTSTART;VALUE=DATE:20210617
DTEND;VALUE=DATE:20210812
DTSTAMP:20260422T091924
CREATED:20210519T140552Z
LAST-MODIFIED:20210519T140552Z
UID:10001078-1623888000-1628726399@guntersvilleal.org
SUMMARY:A Cast of Blues Exhibit at the Guntersville Museum
DESCRIPTION:A celebration of the Delta Blues traveling exhibit from Mid America Arts Alliance
URL:https://guntersvilleal.org/event/a-cast-of-blues-exhibit-at-the-guntersville-museum/
LOCATION:Guntersville Museum\, 1215 Rayburn Ave\, Guntersville\, Alabama\, 35976
GEO:34.349549;-86.3024817
X-APPLE-STRUCTURED-LOCATION;VALUE=URI;X-ADDRESS=Guntersville Museum 1215 Rayburn Ave Guntersville Alabama 35976;X-APPLE-RADIUS=500;X-TITLE=1215 Rayburn Ave:geo:-86.3024817,34.349549
END:VEVENT
BEGIN:VEVENT
DTSTART;VALUE=DATE:20210705
DTEND;VALUE=DATE:20210706
DTSTAMP:20260422T091924
CREATED:20210628T190956Z
LAST-MODIFIED:20210628T190956Z
UID:10000891-1625443200-1625529599@guntersvilleal.org
SUMMARY:City Offices Will Be Closed
DESCRIPTION:The City of Guntersville Offices will be closed in observance of the July 4th Holiday.  Please visit the link below for the modified Garbage & Recycling Schedule: \nModified Sanitation & Recycling Schedule for July 4th
URL:https://guntersvilleal.org/event/city-offices-will-be-closed/
END:VEVENT
BEGIN:VEVENT
DTSTART;TZID=UTC:20210705T180000
DTEND;TZID=UTC:20210705T190000
DTSTAMP:20260422T091924
CREATED:20170831T173158Z
LAST-MODIFIED:20170831T173158Z
UID:10000217-1625508000-1625511600@guntersvilleal.org
SUMMARY:Square Dance @ Senior Center
DESCRIPTION:Square Dance at the Senior Center
URL:https://guntersvilleal.org/event/square-dance-senior-center/2021-07-05/
LOCATION:Guntersville Senior Center\, 1503 Sunset Drive\, Guntersville\, AL\, 35976\, United States
CATEGORIES:Senior Center
GEO:34.3514753;-86.3157272
X-APPLE-STRUCTURED-LOCATION;VALUE=URI;X-ADDRESS=Guntersville Senior Center 1503 Sunset Drive Guntersville AL 35976 United States;X-APPLE-RADIUS=500;X-TITLE=1503 Sunset Drive:geo:-86.3157272,34.3514753
END:VEVENT
BEGIN:VEVENT
DTSTART;TZID=UTC:20210706T120000
DTEND;TZID=UTC:20210706T130000
DTSTAMP:20260422T091924
CREATED:20201207T215253Z
LAST-MODIFIED:20210513T165615Z
UID:10000792-1625572800-1625576400@guntersvilleal.org
SUMMARY:City Council Meeting
DESCRIPTION:Pre-council 30 minutes prior to meeting.
URL:https://guntersvilleal.org/event/city-council-meeting-2/
LOCATION:Guntersville Town Hall\, 420 Blount Ave\, Guntersville\, Alabama\, 35976\, United States
GEO:34.3586403;-86.2930378
X-APPLE-STRUCTURED-LOCATION;VALUE=URI;X-ADDRESS=Guntersville Town Hall 420 Blount Ave Guntersville Alabama 35976 United States;X-APPLE-RADIUS=500;X-TITLE=420 Blount Ave:geo:-86.2930378,34.3586403
END:VEVENT
BEGIN:VEVENT
DTSTART;VALUE=DATE:20210710
DTEND;VALUE=DATE:20210711
DTSTAMP:20260422T091924
CREATED:20210308T200657Z
LAST-MODIFIED:20210308T200657Z
UID:10001072-1625875200-1625961599@guntersvilleal.org
SUMMARY:Team Magic-Mountain Lakes Triathlon
DESCRIPTION:
URL:https://guntersvilleal.org/event/team-magic-mountain-lakes-triathlon/
LOCATION:Guntersville Parks & Recreation Center\, 1500 Sunset Drive\, Guntersville\, Alabama\, 35976
GEO:34.3523013;-86.3173168
X-APPLE-STRUCTURED-LOCATION;VALUE=URI;X-ADDRESS=Guntersville Parks & Recreation Center 1500 Sunset Drive Guntersville Alabama 35976;X-APPLE-RADIUS=500;X-TITLE=1500 Sunset Drive:geo:-86.3173168,34.3523013
END:VEVENT
END:VCALENDAR