BEGIN:VCALENDAR
VERSION:2.0
PRODID:-//City of Guntersville - ECPv6.9.1//NONSGML v1.0//EN
CALSCALE:GREGORIAN
METHOD:PUBLISH
X-WR-CALNAME:City of Guntersville
X-ORIGINAL-URL:https://guntersvilleal.org
X-WR-CALDESC:Events for City of Guntersville
REFRESH-INTERVAL;VALUE=DURATION:PT1H
X-Robots-Tag:noindex
X-PUBLISHED-TTL:PT1H
BEGIN:VTIMEZONE
TZID:UTC
BEGIN:STANDARD
TZOFFSETFROM:+0000
TZOFFSETTO:+0000
TZNAME:UTC
DTSTART:20210101T000000
END:STANDARD
END:VTIMEZONE
BEGIN:VEVENT
DTSTART;TZID=UTC:20210412T180000
DTEND;TZID=UTC:20210412T190000
DTSTAMP:20260425T134849
CREATED:20170831T173158Z
LAST-MODIFIED:20170831T173158Z
UID:10000205-1618250400-1618254000@guntersvilleal.org
SUMMARY:Square Dance @ Senior Center
DESCRIPTION:Square Dance at the Senior Center
URL:https://guntersvilleal.org/event/square-dance-senior-center/2021-04-12/
LOCATION:Guntersville Senior Center\, 1503 Sunset Drive\, Guntersville\, AL\, 35976\, United States
CATEGORIES:Senior Center
GEO:34.3514753;-86.3157272
X-APPLE-STRUCTURED-LOCATION;VALUE=URI;X-ADDRESS=Guntersville Senior Center 1503 Sunset Drive Guntersville AL 35976 United States;X-APPLE-RADIUS=500;X-TITLE=1503 Sunset Drive:geo:-86.3157272,34.3514753
END:VEVENT
BEGIN:VEVENT
DTSTART;TZID=UTC:20210413T180000
DTEND;TZID=UTC:20210413T190000
DTSTAMP:20260425T134849
CREATED:20210106T203844Z
LAST-MODIFIED:20210507T171607Z
UID:10001057-1618336800-1618340400@guntersvilleal.org
SUMMARY:Planning Commission
DESCRIPTION:Planning Commission Agenda AG04132021
URL:https://guntersvilleal.org/event/planning-commission-40-2021-04-13/
END:VEVENT
BEGIN:VEVENT
DTSTART;TZID=UTC:20210415T183000
DTEND;TZID=UTC:20210415T203000
DTSTAMP:20260425T134849
CREATED:20210308T194027Z
LAST-MODIFIED:20210308T194027Z
UID:10001064-1618511400-1618518600@guntersvilleal.org
SUMMARY:Mountain Valley Arts Council Spring Concert Series
DESCRIPTION:Featuring Emily Joseph Band
URL:https://guntersvilleal.org/event/mountain-valley-arts-council-spring-concert-series-2/
LOCATION:Errol Allan Park\, 390 Gunter Avenue\, Guntersville\, Alabama\, 35976
ORGANIZER;CN="Mountain Valley Arts Council":MAILTO:info@mvacarts.org
GEO:34.3597917;-86.2936758
X-APPLE-STRUCTURED-LOCATION;VALUE=URI;X-ADDRESS=Errol Allan Park 390 Gunter Avenue Guntersville Alabama 35976;X-APPLE-RADIUS=500;X-TITLE=390 Gunter Avenue:geo:-86.2936758,34.3597917
END:VEVENT
BEGIN:VEVENT
DTSTART;VALUE=DATE:20210417
DTEND;VALUE=DATE:20210419
DTSTAMP:20260425T134849
CREATED:20210308T195830Z
LAST-MODIFIED:20210308T195830Z
UID:10001070-1618617600-1618790399@guntersvilleal.org
SUMMARY:Art on the Lake
DESCRIPTION:
URL:https://guntersvilleal.org/event/art-on-the-lake-2/
LOCATION:Guntersville Parks & Recreation Center\, 1500 Sunset Drive\, Guntersville\, Alabama\, 35976
GEO:34.3523013;-86.3173168
X-APPLE-STRUCTURED-LOCATION;VALUE=URI;X-ADDRESS=Guntersville Parks & Recreation Center 1500 Sunset Drive Guntersville Alabama 35976;X-APPLE-RADIUS=500;X-TITLE=1500 Sunset Drive:geo:-86.3173168,34.3523013
END:VEVENT
BEGIN:VEVENT
DTSTART;TZID=UTC:20210417T100000
DTEND;TZID=UTC:20210417T160000
DTSTAMP:20260425T134849
CREATED:20210326T194001Z
LAST-MODIFIED:20210326T194001Z
UID:10001073-1618653600-1618675200@guntersvilleal.org
SUMMARY:Downtown Merchant's Sunny Spring Fling
DESCRIPTION:
URL:https://guntersvilleal.org/event/downtown-merchants-sunny-spring-fling/
LOCATION:Downtown Guntersville
END:VEVENT
END:VCALENDAR