BEGIN:VCALENDAR
VERSION:2.0
PRODID:-//City of Guntersville - ECPv6.9.1//NONSGML v1.0//EN
CALSCALE:GREGORIAN
METHOD:PUBLISH
X-ORIGINAL-URL:https://guntersvilleal.org
X-WR-CALDESC:Events for City of Guntersville
REFRESH-INTERVAL;VALUE=DURATION:PT1H
X-Robots-Tag:noindex
X-PUBLISHED-TTL:PT1H
BEGIN:VTIMEZONE
TZID:UTC
BEGIN:STANDARD
TZOFFSETFROM:+0000
TZOFFSETTO:+0000
TZNAME:UTC
DTSTART:20210101T000000
END:STANDARD
END:VTIMEZONE
BEGIN:VEVENT
DTSTART;TZID=UTC:20210308T180000
DTEND;TZID=UTC:20210308T190000
DTSTAMP:20260425T234420
CREATED:20170831T173158Z
LAST-MODIFIED:20170831T173158Z
UID:10000200-1615226400-1615230000@guntersvilleal.org
SUMMARY:Square Dance @ Senior Center
DESCRIPTION:Square Dance at the Senior Center
URL:https://guntersvilleal.org/event/square-dance-senior-center/2021-03-08/
LOCATION:Guntersville Senior Center\, 1503 Sunset Drive\, Guntersville\, AL\, 35976\, United States
CATEGORIES:Senior Center
GEO:34.3514753;-86.3157272
X-APPLE-STRUCTURED-LOCATION;VALUE=URI;X-ADDRESS=Guntersville Senior Center 1503 Sunset Drive Guntersville AL 35976 United States;X-APPLE-RADIUS=500;X-TITLE=1503 Sunset Drive:geo:-86.3157272,34.3514753
END:VEVENT
BEGIN:VEVENT
DTSTART;TZID=UTC:20210309T180000
DTEND;TZID=UTC:20210309T190000
DTSTAMP:20260425T234420
CREATED:20210106T203844Z
LAST-MODIFIED:20210507T172005Z
UID:10001051-1615312800-1615316400@guntersvilleal.org
SUMMARY:Planning Commission
DESCRIPTION:Planning Commission Agenda AG03092021
URL:https://guntersvilleal.org/event/planning-commission-40-2021-03-09/
END:VEVENT
BEGIN:VEVENT
DTSTART;VALUE=DATE:20210313
DTEND;VALUE=DATE:20210314
DTSTAMP:20260425T234420
CREATED:20210308T191006Z
LAST-MODIFIED:20210308T191006Z
UID:10001063-1615593600-1615679999@guntersvilleal.org
SUMMARY:Wild Irish Run
DESCRIPTION:The 43rd Annual Wild Irish Run is this Saturday\, March 13th! For more information or to register visit www.active.com\nor call the Recreation Center at 256-571-7590
URL:https://guntersvilleal.org/event/wild-irish-run/
LOCATION:Guntersville Parks & Recreation Center\, 1500 Sunset Drive\, Guntersville\, Alabama\, 35976
GEO:34.3523013;-86.3173168
X-APPLE-STRUCTURED-LOCATION;VALUE=URI;X-ADDRESS=Guntersville Parks & Recreation Center 1500 Sunset Drive Guntersville Alabama 35976;X-APPLE-RADIUS=500;X-TITLE=1500 Sunset Drive:geo:-86.3173168,34.3523013
END:VEVENT
END:VCALENDAR