BEGIN:VCALENDAR
VERSION:2.0
PRODID:-//City of Guntersville - ECPv6.9.1//NONSGML v1.0//EN
CALSCALE:GREGORIAN
METHOD:PUBLISH
X-WR-CALNAME:City of Guntersville
X-ORIGINAL-URL:https://guntersvilleal.org
X-WR-CALDESC:Events for City of Guntersville
REFRESH-INTERVAL;VALUE=DURATION:PT1H
X-Robots-Tag:noindex
X-PUBLISHED-TTL:PT1H
BEGIN:VTIMEZONE
TZID:UTC
BEGIN:STANDARD
TZOFFSETFROM:+0000
TZOFFSETTO:+0000
TZNAME:UTC
DTSTART:20230101T000000
END:STANDARD
END:VTIMEZONE
BEGIN:VEVENT
DTSTART;TZID=UTC:20230905T120000
DTEND;TZID=UTC:20230905T130000
DTSTAMP:20260421T084019
CREATED:20230822T150607Z
LAST-MODIFIED:20230822T150607Z
UID:10001198-1693915200-1693918800@guntersvilleal.org
SUMMARY:Council Meeting
DESCRIPTION:Pre-Council 30 Minutes Prior
URL:https://guntersvilleal.org/event/council-meeting-34/
LOCATION:Guntersville Town Hall\, 420 Blount Ave\, Guntersville\, Alabama\, 35976\, United States
GEO:34.3586403;-86.2930378
X-APPLE-STRUCTURED-LOCATION;VALUE=URI;X-ADDRESS=Guntersville Town Hall 420 Blount Ave Guntersville Alabama 35976 United States;X-APPLE-RADIUS=500;X-TITLE=420 Blount Ave:geo:-86.2930378,34.3586403
END:VEVENT
BEGIN:VEVENT
DTSTART;TZID=UTC:20230912T180000
DTEND;TZID=UTC:20230912T190000
DTSTAMP:20260421T084019
CREATED:20230908T185534Z
LAST-MODIFIED:20230908T185534Z
UID:10001160-1694541600-1694545200@guntersvilleal.org
SUMMARY:Planning Commission
DESCRIPTION:Planning Commission Agenda AG09122023
URL:https://guntersvilleal.org/event/planning-commission-48-2023-05-09-6/
END:VEVENT
BEGIN:VEVENT
DTSTART;TZID=UTC:20230915T083000
DTEND;TZID=UTC:20230915T090000
DTSTAMP:20260421T084019
CREATED:20230822T150739Z
LAST-MODIFIED:20230822T150739Z
UID:10001199-1694766600-1694768400@guntersvilleal.org
SUMMARY:Council Meeting
DESCRIPTION:Pre-Council 30 Minutes Prior \nCouncil Member Field Trip to Follow
URL:https://guntersvilleal.org/event/council-meeting-35/
LOCATION:Guntersville Town Hall\, 420 Blount Ave\, Guntersville\, Alabama\, 35976\, United States
GEO:34.3586403;-86.2930378
X-APPLE-STRUCTURED-LOCATION;VALUE=URI;X-ADDRESS=Guntersville Town Hall 420 Blount Ave Guntersville Alabama 35976 United States;X-APPLE-RADIUS=500;X-TITLE=420 Blount Ave:geo:-86.2930378,34.3586403
END:VEVENT
BEGIN:VEVENT
DTSTART;VALUE=DATE:20230923
DTEND;VALUE=DATE:20231101
DTSTAMP:20260421T084019
CREATED:20230925T202650Z
LAST-MODIFIED:20230925T202650Z
UID:10001217-1695427200-1698796799@guntersvilleal.org
SUMMARY:Guntersville Ladies Civitan Club's Pumpkin Patch
DESCRIPTION:Stop by to select specialty pumpkins of all sizes\, gourds\, mums and enjoy special family activities.\nLocated the corner of Gunter Avenue and Loveless Street
URL:https://guntersvilleal.org/event/guntersville-ladies-civitan-clubs-pumpkin-patch/
END:VEVENT
BEGIN:VEVENT
DTSTART;TZID=UTC:20230928T183000
DTEND;TZID=UTC:20230928T203000
DTSTAMP:20260421T084019
CREATED:20230925T185135Z
LAST-MODIFIED:20230925T185135Z
UID:10001203-1695925800-1695933000@guntersvilleal.org
SUMMARY:Mountain Valley Arts Fall Concert Series
DESCRIPTION:
URL:https://guntersvilleal.org/event/mountain-valley-arts-fall-concert-series-10/
LOCATION:Errol Allan Park\, 390 Gunter Avenue\, Guntersville\, Alabama\, 35976
ORGANIZER;CN="Mountain Valley Arts Council":MAILTO:info@mvacarts.org
GEO:34.3597917;-86.2936758
X-APPLE-STRUCTURED-LOCATION;VALUE=URI;X-ADDRESS=Errol Allan Park 390 Gunter Avenue Guntersville Alabama 35976;X-APPLE-RADIUS=500;X-TITLE=390 Gunter Avenue:geo:-86.2936758,34.3597917
END:VEVENT
END:VCALENDAR