BEGIN:VCALENDAR
VERSION:2.0
PRODID:-//City of Guntersville - ECPv6.9.1//NONSGML v1.0//EN
CALSCALE:GREGORIAN
METHOD:PUBLISH
X-ORIGINAL-URL:https://guntersvilleal.org
X-WR-CALDESC:Events for City of Guntersville
REFRESH-INTERVAL;VALUE=DURATION:PT1H
X-Robots-Tag:noindex
X-PUBLISHED-TTL:PT1H
BEGIN:VTIMEZONE
TZID:UTC
BEGIN:STANDARD
TZOFFSETFROM:+0000
TZOFFSETTO:+0000
TZNAME:UTC
DTSTART:20230101T000000
END:STANDARD
END:VTIMEZONE
BEGIN:VEVENT
DTSTART;TZID=UTC:20230808T180000
DTEND;TZID=UTC:20230808T190000
DTSTAMP:20260421T195416
CREATED:20230802T203222Z
LAST-MODIFIED:20230809T174938Z
UID:10001159-1691517600-1691521200@guntersvilleal.org
SUMMARY:Planning Commission
DESCRIPTION:Planning Commission Agenda AG08082023 Revised
URL:https://guntersvilleal.org/event/planning-commission-48-2023-05-09-5/
END:VEVENT
BEGIN:VEVENT
DTSTART;TZID=UTC:20230824T173000
DTEND;TZID=UTC:20230824T183000
DTSTAMP:20260421T195416
CREATED:20230801T134830Z
LAST-MODIFIED:20230925T201401Z
UID:10001197-1692898200-1692901800@guntersvilleal.org
SUMMARY:Board of Adjustment
DESCRIPTION:Board of Adjustment Agenda AG08242023
URL:https://guntersvilleal.org/event/board-of-adjustment-2/
END:VEVENT
END:VCALENDAR