BEGIN:VCALENDAR
VERSION:2.0
PRODID:-//City of Guntersville - ECPv6.9.1//NONSGML v1.0//EN
CALSCALE:GREGORIAN
METHOD:PUBLISH
X-ORIGINAL-URL:https://guntersvilleal.org
X-WR-CALDESC:Events for City of Guntersville
REFRESH-INTERVAL;VALUE=DURATION:PT1H
X-Robots-Tag:noindex
X-PUBLISHED-TTL:PT1H
BEGIN:VTIMEZONE
TZID:UTC
BEGIN:STANDARD
TZOFFSETFROM:+0000
TZOFFSETTO:+0000
TZNAME:UTC
DTSTART:20210101T000000
END:STANDARD
END:VTIMEZONE
BEGIN:VEVENT
DTSTART;VALUE=DATE:20210826
DTEND;VALUE=DATE:20211004
DTSTAMP:20260426T003556
CREATED:20210519T142424Z
LAST-MODIFIED:20210519T142424Z
UID:10001079-1629936000-1633305599@guntersvilleal.org
SUMMARY:Water/Ways Exhibit at the Guntersville Museum
DESCRIPTION:Explores the role of water in our nation’s history and culture – a traveling exhibit from the Smithsonian Institution \n 
URL:https://guntersvilleal.org/event/water-ways-exhibit-at-the-guntersville-museum/
LOCATION:Guntersville Museum\, 1215 Rayburn Ave\, Guntersville\, Alabama\, 35976
GEO:34.349549;-86.3024817
X-APPLE-STRUCTURED-LOCATION;VALUE=URI;X-ADDRESS=Guntersville Museum 1215 Rayburn Ave Guntersville Alabama 35976;X-APPLE-RADIUS=500;X-TITLE=1215 Rayburn Ave:geo:-86.3024817,34.349549
END:VEVENT
BEGIN:VEVENT
DTSTART;TZID=UTC:20211001T140000
DTEND;TZID=UTC:20211001T150000
DTSTAMP:20260426T003556
CREATED:20210927T203052Z
LAST-MODIFIED:20210927T203052Z
UID:10001090-1633096800-1633100400@guntersvilleal.org
SUMMARY:Guntersville Homecoming Parade
DESCRIPTION:Downtown Guntersville
URL:https://guntersvilleal.org/event/guntersville-homecoming-parade-2/
END:VEVENT
BEGIN:VEVENT
DTSTART;TZID=UTC:20211004T120000
DTEND;TZID=UTC:20211004T130000
DTSTAMP:20260426T003556
CREATED:20201207T215253Z
LAST-MODIFIED:20210513T165606Z
UID:10000794-1633348800-1633352400@guntersvilleal.org
SUMMARY:City Council Meeting
DESCRIPTION:Pre-council 30 minutes prior to meeting.
URL:https://guntersvilleal.org/event/city-council-meeting-2-2021-08-02/2021-10-04/
LOCATION:Guntersville Town Hall\, 420 Blount Ave\, Guntersville\, Alabama\, 35976\, United States
GEO:34.3586403;-86.2930378
X-APPLE-STRUCTURED-LOCATION;VALUE=URI;X-ADDRESS=Guntersville Town Hall 420 Blount Ave Guntersville Alabama 35976 United States;X-APPLE-RADIUS=500;X-TITLE=420 Blount Ave:geo:-86.2930378,34.3586403
END:VEVENT
BEGIN:VEVENT
DTSTART;TZID=UTC:20211004T180000
DTEND;TZID=UTC:20211004T190000
DTSTAMP:20260426T003556
CREATED:20170831T173158Z
LAST-MODIFIED:20170831T173158Z
UID:10000230-1633370400-1633374000@guntersvilleal.org
SUMMARY:Square Dance @ Senior Center
DESCRIPTION:Square Dance at the Senior Center
URL:https://guntersvilleal.org/event/square-dance-senior-center/2021-10-04/
LOCATION:Guntersville Senior Center\, 1503 Sunset Drive\, Guntersville\, AL\, 35976\, United States
CATEGORIES:Senior Center
GEO:34.3514753;-86.3157272
X-APPLE-STRUCTURED-LOCATION;VALUE=URI;X-ADDRESS=Guntersville Senior Center 1503 Sunset Drive Guntersville AL 35976 United States;X-APPLE-RADIUS=500;X-TITLE=1503 Sunset Drive:geo:-86.3157272,34.3514753
END:VEVENT
BEGIN:VEVENT
DTSTART;TZID=UTC:20211007T183000
DTEND;TZID=UTC:20211007T203000
DTSTAMP:20260426T003556
CREATED:20210909T194700Z
LAST-MODIFIED:20210909T194700Z
UID:10001085-1633631400-1633638600@guntersvilleal.org
SUMMARY:Mountain Valley Arts Council Fall Concert Series
DESCRIPTION:The Bonaires at Errol Allan Park
URL:https://guntersvilleal.org/event/mountain-valley-arts-council-fall-concert-series-11/
LOCATION:Errol Allan Park\, 390 Gunter Avenue\, Guntersville\, Alabama\, 35976
ORGANIZER;CN="Mountain Valley Arts Council":MAILTO:info@mvacarts.org
GEO:34.3597917;-86.2936758
X-APPLE-STRUCTURED-LOCATION;VALUE=URI;X-ADDRESS=Errol Allan Park 390 Gunter Avenue Guntersville Alabama 35976;X-APPLE-RADIUS=500;X-TITLE=390 Gunter Avenue:geo:-86.2936758,34.3597917
END:VEVENT
BEGIN:VEVENT
DTSTART;TZID=UTC:20211008T100000
DTEND;TZID=UTC:20211009T180000
DTSTAMP:20260426T003556
CREATED:20210428T134641Z
LAST-MODIFIED:20210428T134641Z
UID:10001075-1633687200-1633802400@guntersvilleal.org
SUMMARY:Lake City Fallfest
DESCRIPTION:
URL:https://guntersvilleal.org/event/lake-city-fallfest-2/
LOCATION:Downtown Guntersville
END:VEVENT
BEGIN:VEVENT
DTSTART;TZID=UTC:20211011T180000
DTEND;TZID=UTC:20211011T190000
DTSTAMP:20260426T003556
CREATED:20170831T173158Z
LAST-MODIFIED:20170831T173158Z
UID:10000231-1633975200-1633978800@guntersvilleal.org
SUMMARY:Square Dance @ Senior Center
DESCRIPTION:Square Dance at the Senior Center
URL:https://guntersvilleal.org/event/square-dance-senior-center/2021-10-11/
LOCATION:Guntersville Senior Center\, 1503 Sunset Drive\, Guntersville\, AL\, 35976\, United States
CATEGORIES:Senior Center
GEO:34.3514753;-86.3157272
X-APPLE-STRUCTURED-LOCATION;VALUE=URI;X-ADDRESS=Guntersville Senior Center 1503 Sunset Drive Guntersville AL 35976 United States;X-APPLE-RADIUS=500;X-TITLE=1503 Sunset Drive:geo:-86.3157272,34.3514753
END:VEVENT
BEGIN:VEVENT
DTSTART;TZID=UTC:20211012T180000
DTEND;TZID=UTC:20211012T190000
DTSTAMP:20260426T003556
CREATED:20210106T203844Z
LAST-MODIFIED:20211105T190902Z
UID:10001060-1634061600-1634065200@guntersvilleal.org
SUMMARY:*POSTPONED* Planning Commission
DESCRIPTION:
URL:https://guntersvilleal.org/event/planning-commission-40-2021-10-12/
END:VEVENT
BEGIN:VEVENT
DTSTART;TZID=UTC:20211014T183000
DTEND;TZID=UTC:20211014T203000
DTSTAMP:20260426T003556
CREATED:20210909T194755Z
LAST-MODIFIED:20210909T194755Z
UID:10001086-1634236200-1634243400@guntersvilleal.org
SUMMARY:Mountain Valley Arts Council Fall Concert Series
DESCRIPTION:Foster at Errol Allan Park
URL:https://guntersvilleal.org/event/mountain-valley-arts-council-fall-concert-series-12/
LOCATION:Errol Allan Park\, 390 Gunter Avenue\, Guntersville\, Alabama\, 35976
ORGANIZER;CN="Mountain Valley Arts Council":MAILTO:info@mvacarts.org
GEO:34.3597917;-86.2936758
X-APPLE-STRUCTURED-LOCATION;VALUE=URI;X-ADDRESS=Errol Allan Park 390 Gunter Avenue Guntersville Alabama 35976;X-APPLE-RADIUS=500;X-TITLE=390 Gunter Avenue:geo:-86.2936758,34.3597917
END:VEVENT
BEGIN:VEVENT
DTSTART;TZID=UTC:20211018T170000
DTEND;TZID=UTC:20211018T180000
DTSTAMP:20260426T003556
CREATED:20201207T215654Z
LAST-MODIFIED:20210412T195050Z
UID:10001046-1634576400-1634580000@guntersvilleal.org
SUMMARY:City Council Meeting
DESCRIPTION:Pre-Council 30 minutes prior to meeting.
URL:https://guntersvilleal.org/event/city-council-meeting-4/2021-10-18/
LOCATION:Guntersville Town Hall\, 420 Blount Ave\, Guntersville\, Alabama\, 35976\, United States
GEO:34.3586403;-86.2930378
X-APPLE-STRUCTURED-LOCATION;VALUE=URI;X-ADDRESS=Guntersville Town Hall 420 Blount Ave Guntersville Alabama 35976 United States;X-APPLE-RADIUS=500;X-TITLE=420 Blount Ave:geo:-86.2930378,34.3586403
END:VEVENT
BEGIN:VEVENT
DTSTART;TZID=UTC:20211018T180000
DTEND;TZID=UTC:20211018T190000
DTSTAMP:20260426T003556
CREATED:20170831T173158Z
LAST-MODIFIED:20170831T173158Z
UID:10000232-1634580000-1634583600@guntersvilleal.org
SUMMARY:Square Dance @ Senior Center
DESCRIPTION:Square Dance at the Senior Center
URL:https://guntersvilleal.org/event/square-dance-senior-center/2021-10-18/
LOCATION:Guntersville Senior Center\, 1503 Sunset Drive\, Guntersville\, AL\, 35976\, United States
CATEGORIES:Senior Center
GEO:34.3514753;-86.3157272
X-APPLE-STRUCTURED-LOCATION;VALUE=URI;X-ADDRESS=Guntersville Senior Center 1503 Sunset Drive Guntersville AL 35976 United States;X-APPLE-RADIUS=500;X-TITLE=1503 Sunset Drive:geo:-86.3157272,34.3514753
END:VEVENT
BEGIN:VEVENT
DTSTART;TZID=UTC:20211021T183000
DTEND;TZID=UTC:20211021T203000
DTSTAMP:20260426T003556
CREATED:20210909T194847Z
LAST-MODIFIED:20210909T194847Z
UID:10001087-1634841000-1634848200@guntersvilleal.org
SUMMARY:Mountain Valley Arts Council Fall Concert Series
DESCRIPTION:Everyday People at Errol Allan Park
URL:https://guntersvilleal.org/event/mountain-valley-arts-council-fall-concert-series-13/
LOCATION:Errol Allan Park\, 390 Gunter Avenue\, Guntersville\, Alabama\, 35976
ORGANIZER;CN="Mountain Valley Arts Council":MAILTO:info@mvacarts.org
GEO:34.3597917;-86.2936758
X-APPLE-STRUCTURED-LOCATION;VALUE=URI;X-ADDRESS=Errol Allan Park 390 Gunter Avenue Guntersville Alabama 35976;X-APPLE-RADIUS=500;X-TITLE=390 Gunter Avenue:geo:-86.2936758,34.3597917
END:VEVENT
BEGIN:VEVENT
DTSTART;TZID=UTC:20211025T180000
DTEND;TZID=UTC:20211025T190000
DTSTAMP:20260426T003556
CREATED:20170831T173158Z
LAST-MODIFIED:20170831T173158Z
UID:10000233-1635184800-1635188400@guntersvilleal.org
SUMMARY:Square Dance @ Senior Center
DESCRIPTION:Square Dance at the Senior Center
URL:https://guntersvilleal.org/event/square-dance-senior-center/2021-10-25/
LOCATION:Guntersville Senior Center\, 1503 Sunset Drive\, Guntersville\, AL\, 35976\, United States
CATEGORIES:Senior Center
GEO:34.3514753;-86.3157272
X-APPLE-STRUCTURED-LOCATION;VALUE=URI;X-ADDRESS=Guntersville Senior Center 1503 Sunset Drive Guntersville AL 35976 United States;X-APPLE-RADIUS=500;X-TITLE=1503 Sunset Drive:geo:-86.3157272,34.3514753
END:VEVENT
BEGIN:VEVENT
DTSTART;TZID=UTC:20211028T183000
DTEND;TZID=UTC:20211028T203000
DTSTAMP:20260426T003556
CREATED:20210909T194938Z
LAST-MODIFIED:20210909T194938Z
UID:10001088-1635445800-1635453000@guntersvilleal.org
SUMMARY:Mountain Valley Arts Council Fall Concert Series
DESCRIPTION:Emily Joseph at Errol Allan Park
URL:https://guntersvilleal.org/event/mountain-valley-arts-council-fall-concert-series-14/
LOCATION:Errol Allan Park\, 390 Gunter Avenue\, Guntersville\, Alabama\, 35976
ORGANIZER;CN="Mountain Valley Arts Council":MAILTO:info@mvacarts.org
GEO:34.3597917;-86.2936758
X-APPLE-STRUCTURED-LOCATION;VALUE=URI;X-ADDRESS=Errol Allan Park 390 Gunter Avenue Guntersville Alabama 35976;X-APPLE-RADIUS=500;X-TITLE=390 Gunter Avenue:geo:-86.2936758,34.3597917
END:VEVENT
BEGIN:VEVENT
DTSTART;VALUE=DATE:20211030
DTEND;VALUE=DATE:20211031
DTSTAMP:20260426T003556
CREATED:20210921T144413Z
LAST-MODIFIED:20210921T144413Z
UID:10001089-1635552000-1635638399@guntersvilleal.org
SUMMARY:12th Annual Pink Pumpkin Run
DESCRIPTION:The Foundation for Marshall Medical Centers is excited to present the 12th Annual Pink Pumpkin Run to benefit mammography and cancer services at Marshall Medical Centers. The race will take place on Saturday\, October 30th\, 2021 starting and ending at the Guntersville Civitan Park and will include the traditional in-person 5k\, 10k and 1 Mile Run Run! \nhttps://raceroster.com/events/2021/50515/12th-annual-pink-pumpkin-run
URL:https://guntersvilleal.org/event/12th-annual-pink-pumpkin-run/
END:VEVENT
END:VCALENDAR