BEGIN:VCALENDAR
VERSION:2.0
PRODID:-//City of Guntersville - ECPv6.9.1//NONSGML v1.0//EN
CALSCALE:GREGORIAN
METHOD:PUBLISH
X-ORIGINAL-URL:https://guntersvilleal.org
X-WR-CALDESC:Events for City of Guntersville
REFRESH-INTERVAL;VALUE=DURATION:PT1H
X-Robots-Tag:noindex
X-PUBLISHED-TTL:PT1H
BEGIN:VTIMEZONE
TZID:UTC
BEGIN:STANDARD
TZOFFSETFROM:+0000
TZOFFSETTO:+0000
TZNAME:UTC
DTSTART:20240101T000000
END:STANDARD
END:VTIMEZONE
BEGIN:VEVENT
DTSTART;TZID=UTC:20240709T180000
DTEND;TZID=UTC:20240709T190000
DTSTAMP:20260419T151537
CREATED:20240703T163514Z
LAST-MODIFIED:20240708T183725Z
UID:10001236-1720548000-1720551600@guntersvilleal.org
SUMMARY:Planning Commission
DESCRIPTION:Planning Commission Agenda AG07092024 revised
URL:https://guntersvilleal.org/event/planning-commission-51-8/
END:VEVENT
BEGIN:VEVENT
DTSTART;TZID=UTC:20240715T170000
DTEND;TZID=UTC:20240715T180000
DTSTAMP:20260419T151537
CREATED:20240619T142954Z
LAST-MODIFIED:20240619T142954Z
UID:10001268-1721062800-1721066400@guntersvilleal.org
SUMMARY:Council Meeting
DESCRIPTION:Pre-Council 30 minutes prior to meeting.
URL:https://guntersvilleal.org/event/council-meeting-54/
LOCATION:Guntersville Town Hall\, 420 Blount Ave\, Guntersville\, Alabama\, 35976\, United States
GEO:34.3586403;-86.2930378
X-APPLE-STRUCTURED-LOCATION;VALUE=URI;X-ADDRESS=Guntersville Town Hall 420 Blount Ave Guntersville Alabama 35976 United States;X-APPLE-RADIUS=500;X-TITLE=420 Blount Ave:geo:-86.2930378,34.3586403
END:VEVENT
BEGIN:VEVENT
DTSTART;TZID=UTC:20240723T173000
DTEND;TZID=UTC:20240723T183000
DTSTAMP:20260419T151537
CREATED:20240701T175838Z
LAST-MODIFIED:20240701T175838Z
UID:10001269-1721755800-1721759400@guntersvilleal.org
SUMMARY:Board of Adjustment
DESCRIPTION:Board of Adjustment Agenda AG07232024
URL:https://guntersvilleal.org/event/board-of-adjustment-9/
END:VEVENT
BEGIN:VEVENT
DTSTART;TZID=UTC:20240805T120000
DTEND;TZID=UTC:20240805T130000
DTSTAMP:20260419T151537
CREATED:20240805T162757Z
LAST-MODIFIED:20240805T162757Z
UID:10001270-1722859200-1722862800@guntersvilleal.org
SUMMARY:Council Meeting
DESCRIPTION:Pre-Council 30 minutes prior to meeting.
URL:https://guntersvilleal.org/event/council-meeting-55/
LOCATION:Guntersville Town Hall\, 420 Blount Ave\, Guntersville\, Alabama\, 35976\, United States
GEO:34.3586403;-86.2930378
X-APPLE-STRUCTURED-LOCATION;VALUE=URI;X-ADDRESS=Guntersville Town Hall 420 Blount Ave Guntersville Alabama 35976 United States;X-APPLE-RADIUS=500;X-TITLE=420 Blount Ave:geo:-86.2930378,34.3586403
END:VEVENT
BEGIN:VEVENT
DTSTART;TZID=UTC:20240813T180000
DTEND;TZID=UTC:20240813T190000
DTSTAMP:20260419T151537
CREATED:20240809T204232Z
LAST-MODIFIED:20240809T204232Z
UID:10001237-1723572000-1723575600@guntersvilleal.org
SUMMARY:Planning Commission
DESCRIPTION:Planning Commission Agenda AG08132024
URL:https://guntersvilleal.org/event/planning-commission-51-9/
END:VEVENT
BEGIN:VEVENT
DTSTART;TZID=UTC:20240819T170000
DTEND;TZID=UTC:20240819T180000
DTSTAMP:20260419T151537
CREATED:20240805T162839Z
LAST-MODIFIED:20240805T162839Z
UID:10001271-1724086800-1724090400@guntersvilleal.org
SUMMARY:City Council Meeting
DESCRIPTION:Pre-Council 30 minutes prior to meeting.
URL:https://guntersvilleal.org/event/city-council-meeting-12/
LOCATION:Guntersville Town Hall\, 420 Blount Ave\, Guntersville\, Alabama\, 35976\, United States
GEO:34.3586403;-86.2930378
X-APPLE-STRUCTURED-LOCATION;VALUE=URI;X-ADDRESS=Guntersville Town Hall 420 Blount Ave Guntersville Alabama 35976 United States;X-APPLE-RADIUS=500;X-TITLE=420 Blount Ave:geo:-86.2930378,34.3586403
END:VEVENT
BEGIN:VEVENT
DTSTART;TZID=UTC:20240822T173000
DTEND;TZID=UTC:20240822T183000
DTSTAMP:20260419T151537
CREATED:20240806T182735Z
LAST-MODIFIED:20240806T182735Z
UID:10001272-1724347800-1724351400@guntersvilleal.org
SUMMARY:Board of Adjustment
DESCRIPTION:Board of Adjustment Agenda AG08222024
URL:https://guntersvilleal.org/event/board-of-adjustment-10/
LOCATION:Guntersville City Hall\, 341 Gunter Ave\, Guntersville\, AL\, 35976\, United States
GEO:34.3605385;-86.2923678
X-APPLE-STRUCTURED-LOCATION;VALUE=URI;X-ADDRESS=Guntersville City Hall 341 Gunter Ave Guntersville AL 35976 United States;X-APPLE-RADIUS=500;X-TITLE=341 Gunter Ave:geo:-86.2923678,34.3605385
END:VEVENT
BEGIN:VEVENT
DTSTART;TZID=UTC:20240903T120000
DTEND;TZID=UTC:20240903T130000
DTSTAMP:20260419T151537
CREATED:20240828T192538Z
LAST-MODIFIED:20240828T192538Z
UID:10001274-1725364800-1725368400@guntersvilleal.org
SUMMARY:Council Meeting
DESCRIPTION:Pre-Council 30 minutes prior to meeting.
URL:https://guntersvilleal.org/event/council-meeting-56/
LOCATION:Guntersville Town Hall\, 420 Blount Ave\, Guntersville\, Alabama\, 35976\, United States
GEO:34.3586403;-86.2930378
X-APPLE-STRUCTURED-LOCATION;VALUE=URI;X-ADDRESS=Guntersville Town Hall 420 Blount Ave Guntersville Alabama 35976 United States;X-APPLE-RADIUS=500;X-TITLE=420 Blount Ave:geo:-86.2930378,34.3586403
END:VEVENT
BEGIN:VEVENT
DTSTART;TZID=UTC:20240910T180000
DTEND;TZID=UTC:20240910T190000
DTSTAMP:20260419T151537
CREATED:20240909T194029Z
LAST-MODIFIED:20240909T194122Z
UID:10001238-1725991200-1725994800@guntersvilleal.org
SUMMARY:Planning Commission
DESCRIPTION:Planning Commission Agenda AG09102024
URL:https://guntersvilleal.org/event/planning-commission-51-10/
END:VEVENT
BEGIN:VEVENT
DTSTART;TZID=UTC:20240912T173000
DTEND;TZID=UTC:20240912T180000
DTSTAMP:20260419T151537
CREATED:20240826T192602Z
LAST-MODIFIED:20240826T192602Z
UID:10001273-1726162200-1726164000@guntersvilleal.org
SUMMARY:Board of Adjustment
DESCRIPTION:Board of Adjustment Agenda AG09122024
URL:https://guntersvilleal.org/event/board-of-adjustment-11/
END:VEVENT
BEGIN:VEVENT
DTSTART;TZID=UTC:20240916T170000
DTEND;TZID=UTC:20240916T180000
DTSTAMP:20260419T151537
CREATED:20240828T192736Z
LAST-MODIFIED:20240828T192736Z
UID:10001275-1726506000-1726509600@guntersvilleal.org
SUMMARY:Council Meeting
DESCRIPTION:Pre-Council 30 minutes prior to meeting.
URL:https://guntersvilleal.org/event/council-meeting-57/
LOCATION:Guntersville Town Hall\, 420 Blount Ave\, Guntersville\, Alabama\, 35976\, United States
GEO:34.3586403;-86.2930378
X-APPLE-STRUCTURED-LOCATION;VALUE=URI;X-ADDRESS=Guntersville Town Hall 420 Blount Ave Guntersville Alabama 35976 United States;X-APPLE-RADIUS=500;X-TITLE=420 Blount Ave:geo:-86.2930378,34.3586403
END:VEVENT
BEGIN:VEVENT
DTSTART;TZID=UTC:20241008T180000
DTEND;TZID=UTC:20241008T190000
DTSTAMP:20260419T151537
CREATED:20241007T150844Z
LAST-MODIFIED:20241007T150844Z
UID:10001239-1728410400-1728414000@guntersvilleal.org
SUMMARY:Planning Commission
DESCRIPTION:Planning Commission Agenda AG10082024
URL:https://guntersvilleal.org/event/planning-commission-51-11/
END:VEVENT
BEGIN:VEVENT
DTSTART;TZID=UTC:20241104T120000
DTEND;TZID=UTC:20241104T130000
DTSTAMP:20260419T151537
CREATED:20241104T150133Z
LAST-MODIFIED:20241104T150133Z
UID:10001278-1730721600-1730725200@guntersvilleal.org
SUMMARY:Council Meeting
DESCRIPTION:Pre-Council 30 minutes prior to meeting.
URL:https://guntersvilleal.org/event/council-meeting-58/
LOCATION:Guntersville Town Hall\, 420 Blount Ave\, Guntersville\, Alabama\, 35976\, United States
GEO:34.3586403;-86.2930378
X-APPLE-STRUCTURED-LOCATION;VALUE=URI;X-ADDRESS=Guntersville Town Hall 420 Blount Ave Guntersville Alabama 35976 United States;X-APPLE-RADIUS=500;X-TITLE=420 Blount Ave:geo:-86.2930378,34.3586403
END:VEVENT
BEGIN:VEVENT
DTSTART;TZID=UTC:20241104T173000
DTEND;TZID=UTC:20241104T183000
DTSTAMP:20260419T151537
CREATED:20241008T194738Z
LAST-MODIFIED:20241017T151059Z
UID:10001276-1730741400-1730745000@guntersvilleal.org
SUMMARY:Board of Adjustment
DESCRIPTION:Board of Adjustment CANCELLED \n 
URL:https://guntersvilleal.org/event/board-of-adjustment-12/
END:VEVENT
BEGIN:VEVENT
DTSTART;TZID=UTC:20241111T110000
DTEND;TZID=UTC:20241111T120000
DTSTAMP:20260419T151537
CREATED:20241104T145927Z
LAST-MODIFIED:20241104T145927Z
UID:10001277-1731322800-1731326400@guntersvilleal.org
SUMMARY:Veteran’s Day Program
DESCRIPTION:
URL:https://guntersvilleal.org/event/veterans-day-program-2/
LOCATION:899 Sunset Drive Trail\, 899 Sunset Drive\, Guntersville\, AL\, 35976\, United States
END:VEVENT
BEGIN:VEVENT
DTSTART;TZID=UTC:20241112T180000
DTEND;TZID=UTC:20241112T190000
DTSTAMP:20260419T151537
CREATED:20241108T153854Z
LAST-MODIFIED:20241108T153854Z
UID:10001240-1731434400-1731438000@guntersvilleal.org
SUMMARY:Planning Commission
DESCRIPTION:Planning Commission Agenda AG11122024
URL:https://guntersvilleal.org/event/planning-commission-51-12/
END:VEVENT
BEGIN:VEVENT
DTSTART;TZID=UTC:20241118T170000
DTEND;TZID=UTC:20241118T180000
DTSTAMP:20260419T151537
CREATED:20241104T150213Z
LAST-MODIFIED:20241104T150213Z
UID:10001279-1731949200-1731952800@guntersvilleal.org
SUMMARY:Council Meeting
DESCRIPTION:Pre-Council 30 minutes prior to meeting.
URL:https://guntersvilleal.org/event/council-meeting-59/
LOCATION:Guntersville Town Hall\, 420 Blount Ave\, Guntersville\, Alabama\, 35976\, United States
GEO:34.3586403;-86.2930378
X-APPLE-STRUCTURED-LOCATION;VALUE=URI;X-ADDRESS=Guntersville Town Hall 420 Blount Ave Guntersville Alabama 35976 United States;X-APPLE-RADIUS=500;X-TITLE=420 Blount Ave:geo:-86.2930378,34.3586403
END:VEVENT
BEGIN:VEVENT
DTSTART;TZID=UTC:20241202T120000
DTEND;TZID=UTC:20241202T130000
DTSTAMP:20260419T151537
CREATED:20241104T150257Z
LAST-MODIFIED:20241104T150257Z
UID:10001280-1733140800-1733144400@guntersvilleal.org
SUMMARY:Council Meeting
DESCRIPTION:Pre-Council 30 minutes prior to meeting.
URL:https://guntersvilleal.org/event/council-meeting-60/
LOCATION:Guntersville Town Hall\, 420 Blount Ave\, Guntersville\, Alabama\, 35976\, United States
GEO:34.3586403;-86.2930378
X-APPLE-STRUCTURED-LOCATION;VALUE=URI;X-ADDRESS=Guntersville Town Hall 420 Blount Ave Guntersville Alabama 35976 United States;X-APPLE-RADIUS=500;X-TITLE=420 Blount Ave:geo:-86.2930378,34.3586403
END:VEVENT
BEGIN:VEVENT
DTSTART;TZID=UTC:20241210T180000
DTEND;TZID=UTC:20241210T190000
DTSTAMP:20260419T151537
CREATED:20241206T164840Z
LAST-MODIFIED:20241209T215920Z
UID:10001241-1733853600-1733857200@guntersvilleal.org
SUMMARY:Planning Commission
DESCRIPTION:Planning Commission Agenda (Revised 12/9/2024) AG121022024
URL:https://guntersvilleal.org/event/planning-commission-51-13/
END:VEVENT
BEGIN:VEVENT
DTSTART;TZID=UTC:20241216T170000
DTEND;TZID=UTC:20241216T180000
DTSTAMP:20260419T151537
CREATED:20241104T150709Z
LAST-MODIFIED:20241104T150709Z
UID:10001281-1734368400-1734372000@guntersvilleal.org
SUMMARY:Council Meeting
DESCRIPTION:Pre-Council 30 minutes prior to meeting.
URL:https://guntersvilleal.org/event/council-meeting-61/
LOCATION:Guntersville Town Hall\, 420 Blount Ave\, Guntersville\, Alabama\, 35976\, United States
GEO:34.3586403;-86.2930378
X-APPLE-STRUCTURED-LOCATION;VALUE=URI;X-ADDRESS=Guntersville Town Hall 420 Blount Ave Guntersville Alabama 35976 United States;X-APPLE-RADIUS=500;X-TITLE=420 Blount Ave:geo:-86.2930378,34.3586403
END:VEVENT
BEGIN:VEVENT
DTSTART;TZID=UTC:20250114T180000
DTEND;TZID=UTC:20250114T200000
DTSTAMP:20260419T151537
CREATED:20250108T202548Z
LAST-MODIFIED:20250108T202548Z
UID:10001283-1736877600-1736884800@guntersvilleal.org
SUMMARY:Planning Commission
DESCRIPTION:Planning Commission Agenda AG01142025
URL:https://guntersvilleal.org/event/planning-commission-52/
END:VEVENT
BEGIN:VEVENT
DTSTART;TZID=UTC:20250127T173000
DTEND;TZID=UTC:20250127T183000
DTSTAMP:20260419T151537
CREATED:20250107T201447Z
LAST-MODIFIED:20250107T201447Z
UID:10001282-1737999000-1738002600@guntersvilleal.org
SUMMARY:Board of Adjustment
DESCRIPTION:Board of Adjustment Agenda AG01272025
URL:https://guntersvilleal.org/event/board-of-adjustment-13/
END:VEVENT
BEGIN:VEVENT
DTSTART;TZID=UTC:20250203T120000
DTEND;TZID=UTC:20250203T130000
DTSTAMP:20260419T151537
CREATED:20250127T171930Z
LAST-MODIFIED:20250127T171930Z
UID:10001284-1738584000-1738587600@guntersvilleal.org
SUMMARY:Council Meeting
DESCRIPTION:Pre-Council 30 minutes prior to meeting.
URL:https://guntersvilleal.org/event/council-meeting-62/
LOCATION:Guntersville Town Hall\, 420 Blount Ave\, Guntersville\, Alabama\, 35976\, United States
GEO:34.3586403;-86.2930378
X-APPLE-STRUCTURED-LOCATION;VALUE=URI;X-ADDRESS=Guntersville Town Hall 420 Blount Ave Guntersville Alabama 35976 United States;X-APPLE-RADIUS=500;X-TITLE=420 Blount Ave:geo:-86.2930378,34.3586403
END:VEVENT
BEGIN:VEVENT
DTSTART;TZID=UTC:20250211T180000
DTEND;TZID=UTC:20250211T190000
DTSTAMP:20260419T151537
CREATED:20250207T180822Z
LAST-MODIFIED:20250207T180822Z
UID:10001289-1739296800-1739300400@guntersvilleal.org
SUMMARY:Planning Commission
DESCRIPTION:Planning Commission Agenda AG02112025
URL:https://guntersvilleal.org/event/planning-commission-53/
END:VEVENT
BEGIN:VEVENT
DTSTART;TZID=UTC:20250217T170000
DTEND;TZID=UTC:20250217T180000
DTSTAMP:20260419T151537
CREATED:20250127T172001Z
LAST-MODIFIED:20250127T172001Z
UID:10001285-1739811600-1739815200@guntersvilleal.org
SUMMARY:Council Meeting
DESCRIPTION:Pre-Council 30 minutes prior to meeting.
URL:https://guntersvilleal.org/event/council-meeting-63/
LOCATION:Guntersville Town Hall\, 420 Blount Ave\, Guntersville\, Alabama\, 35976\, United States
GEO:34.3586403;-86.2930378
X-APPLE-STRUCTURED-LOCATION;VALUE=URI;X-ADDRESS=Guntersville Town Hall 420 Blount Ave Guntersville Alabama 35976 United States;X-APPLE-RADIUS=500;X-TITLE=420 Blount Ave:geo:-86.2930378,34.3586403
END:VEVENT
BEGIN:VEVENT
DTSTART;TZID=UTC:20250220T173000
DTEND;TZID=UTC:20250220T183000
DTSTAMP:20260419T151537
CREATED:20250206T183241Z
LAST-MODIFIED:20250206T190617Z
UID:10001288-1740072600-1740076200@guntersvilleal.org
SUMMARY:Board of Adjustment
DESCRIPTION:Board of Adjustment Agenda AG02202025
URL:https://guntersvilleal.org/event/board-of-adjustment-14/
END:VEVENT
BEGIN:VEVENT
DTSTART;TZID=UTC:20250303T120000
DTEND;TZID=UTC:20250303T130000
DTSTAMP:20260419T151537
CREATED:20250127T172131Z
LAST-MODIFIED:20250127T172131Z
UID:10001286-1741003200-1741006800@guntersvilleal.org
SUMMARY:Council Meeting
DESCRIPTION:Pre-Council 30 minutes prior to meeting.
URL:https://guntersvilleal.org/event/council-meeting-64/
LOCATION:Guntersville Town Hall\, 420 Blount Ave\, Guntersville\, Alabama\, 35976\, United States
GEO:34.3586403;-86.2930378
X-APPLE-STRUCTURED-LOCATION;VALUE=URI;X-ADDRESS=Guntersville Town Hall 420 Blount Ave Guntersville Alabama 35976 United States;X-APPLE-RADIUS=500;X-TITLE=420 Blount Ave:geo:-86.2930378,34.3586403
END:VEVENT
BEGIN:VEVENT
DTSTART;TZID=UTC:20250304T180000
DTEND;TZID=UTC:20250304T190000
DTSTAMP:20260419T151537
CREATED:20250228T212411Z
LAST-MODIFIED:20250228T212411Z
UID:10001290-1741111200-1741114800@guntersvilleal.org
SUMMARY:Planning Commission
DESCRIPTION:Planning Commission Agenda AG03042025
URL:https://guntersvilleal.org/event/planning-commission-54/
END:VEVENT
BEGIN:VEVENT
DTSTART;TZID=UTC:20250317T080000
DTEND;TZID=UTC:20250317T170000
DTSTAMP:20260419T151537
CREATED:20250127T172227Z
LAST-MODIFIED:20250127T172227Z
UID:10001287-1742198400-1742230800@guntersvilleal.org
SUMMARY:Council Meeting
DESCRIPTION:Pre-Council 30 minutes prior to meeting.
URL:https://guntersvilleal.org/event/council-meeting-65/
LOCATION:Guntersville Town Hall\, 420 Blount Ave\, Guntersville\, Alabama\, 35976\, United States
GEO:34.3586403;-86.2930378
X-APPLE-STRUCTURED-LOCATION;VALUE=URI;X-ADDRESS=Guntersville Town Hall 420 Blount Ave Guntersville Alabama 35976 United States;X-APPLE-RADIUS=500;X-TITLE=420 Blount Ave:geo:-86.2930378,34.3586403
END:VEVENT
BEGIN:VEVENT
DTSTART;TZID=UTC:20250407T120000
DTEND;TZID=UTC:20250407T130000
DTSTAMP:20260419T151537
CREATED:20250404T211756Z
LAST-MODIFIED:20250404T211756Z
UID:10001292-1744027200-1744030800@guntersvilleal.org
SUMMARY:Council Meeting
DESCRIPTION:Pre-Council 30 minutes prior to meeting.
URL:https://guntersvilleal.org/event/council-meeting-66/
LOCATION:Guntersville Town Hall\, 420 Blount Ave\, Guntersville\, Alabama\, 35976\, United States
GEO:34.3586403;-86.2930378
X-APPLE-STRUCTURED-LOCATION;VALUE=URI;X-ADDRESS=Guntersville Town Hall 420 Blount Ave Guntersville Alabama 35976 United States;X-APPLE-RADIUS=500;X-TITLE=420 Blount Ave:geo:-86.2930378,34.3586403
END:VEVENT
END:VCALENDAR