BEGIN:VCALENDAR
VERSION:2.0
PRODID:-//City of Guntersville - ECPv6.9.1//NONSGML v1.0//EN
CALSCALE:GREGORIAN
METHOD:PUBLISH
X-WR-CALNAME:City of Guntersville
X-ORIGINAL-URL:https://guntersvilleal.org
X-WR-CALDESC:Events for City of Guntersville
REFRESH-INTERVAL;VALUE=DURATION:PT1H
X-Robots-Tag:noindex
X-PUBLISHED-TTL:PT1H
BEGIN:VTIMEZONE
TZID:UTC
BEGIN:STANDARD
TZOFFSETFROM:+0000
TZOFFSETTO:+0000
TZNAME:UTC
DTSTART:20230101T000000
END:STANDARD
END:VTIMEZONE
BEGIN:VEVENT
DTSTART;VALUE=DATE:20231110
DTEND;VALUE=DATE:20231111
DTSTAMP:20260420T062904
CREATED:20230925T201718Z
LAST-MODIFIED:20230925T201718Z
UID:10001215-1699574400-1699660799@guntersvilleal.org
SUMMARY:Veteran's Day Observed
DESCRIPTION:All non-essential City offices will be closed in observance of Veteran’s Day \n(Alternate trash pickup schedule to come)
URL:https://guntersvilleal.org/event/veterans-day-observed/
END:VEVENT
END:VCALENDAR