BEGIN:VCALENDAR
VERSION:2.0
PRODID:-//City of Guntersville - ECPv6.9.1//NONSGML v1.0//EN
CALSCALE:GREGORIAN
METHOD:PUBLISH
X-WR-CALNAME:City of Guntersville
X-ORIGINAL-URL:https://guntersvilleal.org
X-WR-CALDESC:Events for City of Guntersville
REFRESH-INTERVAL;VALUE=DURATION:PT1H
X-Robots-Tag:noindex
X-PUBLISHED-TTL:PT1H
BEGIN:VTIMEZONE
TZID:UTC
BEGIN:STANDARD
TZOFFSETFROM:+0000
TZOFFSETTO:+0000
TZNAME:UTC
DTSTART:20190101T000000
END:STANDARD
END:VTIMEZONE
BEGIN:VEVENT
DTSTART;VALUE=DATE:20190401
DTEND;VALUE=DATE:20190402
DTSTAMP:20260424T220019
CREATED:20190322T150640Z
LAST-MODIFIED:20190322T151355Z
UID:10000826-1554076800-1554163199@guntersvilleal.org
SUMMARY:Line Dance Lessons at Guntersville Senior Center
DESCRIPTION:Beginner Classes at 11:00 am \nExperienced Classes at 12:00 NOON \n \n 
URL:https://guntersvilleal.org/event/line-dance-lessons/2019-04-01/
LOCATION:Guntersville Senior Center\, 1503 Sunset Drive\, Guntersville\, AL\, 35976\, United States
GEO:34.3514753;-86.3157272
X-APPLE-STRUCTURED-LOCATION;VALUE=URI;X-ADDRESS=Guntersville Senior Center 1503 Sunset Drive Guntersville AL 35976 United States;X-APPLE-RADIUS=500;X-TITLE=1503 Sunset Drive:geo:-86.3157272,34.3514753
END:VEVENT
BEGIN:VEVENT
DTSTART;TZID=UTC:20190401T100000
DTEND;TZID=UTC:20190401T110000
DTSTAMP:20260424T220019
CREATED:20190322T145928Z
LAST-MODIFIED:20190322T145930Z
UID:10000812-1554112800-1554116400@guntersvilleal.org
SUMMARY:ARTHRITIS EXERCISE AT THE SENIOR CENTER
DESCRIPTION:Mondays\, Wednesdays and Fridays let by Jo
URL:https://guntersvilleal.org/event/arthritis-exercise-at-the-senior-center/2019-04-01/
LOCATION:Guntersville Senior Center\, 1503 Sunset Drive\, Guntersville\, AL\, 35976\, United States
GEO:34.3514753;-86.3157272
X-APPLE-STRUCTURED-LOCATION;VALUE=URI;X-ADDRESS=Guntersville Senior Center 1503 Sunset Drive Guntersville AL 35976 United States;X-APPLE-RADIUS=500;X-TITLE=1503 Sunset Drive:geo:-86.3157272,34.3514753
END:VEVENT
BEGIN:VEVENT
DTSTART;TZID=UTC:20190401T180000
DTEND;TZID=UTC:20190401T190000
DTSTAMP:20260424T220019
CREATED:20170831T173158Z
LAST-MODIFIED:20170831T173158Z
UID:10000099-1554141600-1554145200@guntersvilleal.org
SUMMARY:Square Dance @ Senior Center
DESCRIPTION:Square Dance at the Senior Center
URL:https://guntersvilleal.org/event/square-dance-senior-center/2019-04-01/
LOCATION:Guntersville Senior Center\, 1503 Sunset Drive\, Guntersville\, AL\, 35976\, United States
CATEGORIES:Senior Center
GEO:34.3514753;-86.3157272
X-APPLE-STRUCTURED-LOCATION;VALUE=URI;X-ADDRESS=Guntersville Senior Center 1503 Sunset Drive Guntersville AL 35976 United States;X-APPLE-RADIUS=500;X-TITLE=1503 Sunset Drive:geo:-86.3157272,34.3514753
END:VEVENT
BEGIN:VEVENT
DTSTART;TZID=UTC:20190401T180000
DTEND;TZID=UTC:20190401T190000
DTSTAMP:20260424T220019
CREATED:20190322T152416Z
LAST-MODIFIED:20190322T152417Z
UID:10000831-1554141600-1554145200@guntersvilleal.org
SUMMARY:Square Dance Lessons at Senior Center
DESCRIPTION:Lake Twirlers on Monday nights
URL:https://guntersvilleal.org/event/square-dance-lessons-at-senior-center/2019-04-01/
LOCATION:Guntersville Senior Center\, 1500 Sunset Drive\, Guntersville\, Alabama\, 35976
END:VEVENT
END:VCALENDAR